BEGIN:VCALENDAR
VERSION:2.0
PRODID:-//ChamberMaster//Event Calendar 2.0//EN
METHOD:PUBLISH
X-PUBLISHED-TTL:P3D
REFRESH-INTERVAL:P3D
CALSCALE:GREGORIAN
BEGIN:VEVENT
DTSTART:20130427T120000Z
DTEND:20130427T190000Z
X-MICROSOFT-CDO-ALLDAYEVENT:FALSE
SUMMARY:Youth Volunteer Corps of Hampton Roads Second Annual Canstructure Contest
DESCRIPTION:Students from 14 area schools will take place in the Youth Volunteer Corps of Hampton Roads (YVCHR) Second Annual Canstructure Contest on April 27\, 2013. All cans are collected by the teams and donated to The Foodbank of the Virginia Peninsula. Last year\, 8\,515 pounds were collected for donation. Teams will begin building their structures with the help of local engineers at 8 a.m. and judging will take place on the structures at 3 p.m. The public can view the structures being built throughout the day and vote on their favorite by purchasing a $1 raffle ticket\, with proceeds going to the YVCHR. Structures will remain on display through Friday\, May 3\, 2013.
X-ALT-DESC;FMTTYPE=text/html:Students from 14 area schools will take place in the Youth Volunteer Corps of Hampton Roads (YVCHR) Second Annual Canstructure Contest on April 27\, 2013. All cans are collected by the teams and donated to The Foodbank of the Virginia Peninsula. Last year\, 8\,515 pounds were collected for donation. Teams will begin building their structures with the help of local engineers at 8 a.m. and judging will take place on the structures at 3 p.m. The public can view the structures being built throughout the day and vote on their favorite by purchasing a $1 raffle ticket\, with proceeds going to the YVCHR. Structures will remain on display through Friday\, May 3\, 2013. 
LOCATION:Patrick Henry Mall 12300 Jefferson Avenue Newport News\, VA 23602
UID:e.832.1616
SEQUENCE:3
DTSTAMP:20260422T123821Z
URL:https://business.virginiapeninsulachamber.com/events/details/youth-volunteer-corps-of-hampton-roads-second-annual-canstructure-contest-04-27-2013-1616
END:VEVENT

END:VCALENDAR
