BEGIN:VCALENDAR
VERSION:2.0
PRODID:-//ChamberMaster//Event Calendar 2.0//EN
METHOD:PUBLISH
X-PUBLISHED-TTL:P3D
REFRESH-INTERVAL:P3D
CALSCALE:GREGORIAN
BEGIN:VEVENT
DTSTART;VALUE=DATE:20110809
DTEND;VALUE=DATE:20110813
TRANSP:TRANSPARENT
X-MICROSOFT-CDO-ALLDAYEVENT:TRUE
SUMMARY:Youth Leadership Alliance
DESCRIPTION:The Virginia Peninsula Chamber Foundation\n\n	presents\n\n	2011 Youth Leadership Alliance Program\n\n	The Youth Leadership Alliance (YLA) a program of the Virginia Peninsula Chamber Foundation is designed provide students the opportunity to develop their leadership skills and apply them within their communities. The mission of YLA is to develop student community leaders who possess the skills\, confidence and tools to make a difference in their own lives while becoming effective role models in the community. Thirty Newport News School Division rising 11th grade student council members have been selected to participate in the YLA class of 2011.  The program begins with a parent\, student orientation on Monday\, June 13th\, 6: 30- 8:00 p.m. at Peninsula Workforce Development Center.  This program was developed by Doug Carper of the Newport News Fire Department and Denise Owen with Bay Port Credit Union\, alumni of Leadership Institute class of 2007.  This is a cooperative measure between six participating Newport News Public Schools\, Chamber staff\, YLA Advisory Board.
X-ALT-DESC;FMTTYPE=text/html:<p style="text-align: center">\n	<strong><span style="font-family: times new roman\, serif"><span style="font-size: 12pt">The Virginia Peninsula Chamber Foundation<br />\n	<em>presents</em><br />\n	2011 Youth Leadership Alliance Program</span></span></strong><br />\n	<span style="color: #3f3f3f"><span style="font-family: times new roman\, serif"><span style="font-size: 12pt">The Youth Leadership Alliance (YLA) a program of the Virginia Peninsula Chamber Foundation is designed provide students the opportunity to develop their leadership skills and apply them within their communities. The mission of YLA is to develop student community leaders who possess the skills\, confidence and tools to make a difference in their own lives while becoming effective role models in the community.</span></span></span>&nbsp\;<span style="font-family: times new roman\, serif"><span style="font-size: 12pt">Thirty Newport News School Division rising 11<sup>th</sup> grade student council members have been selected to participate in the YLA class of 2011.&nbsp\; The program begins with a parent\, student orientation on Monday\, June 13th\, 6: 30- 8:00 p.m. at Peninsula Workforce Development Center. &nbsp\;This program was developed by Doug Carper of the Newport News Fire Department and Denise Owen with Bay Port Credit Union\, alumni of Leadership Institute class of 2007.&nbsp\; This is a cooperative measure between six participating Newport News Public Schools\, Chamber staff\, YLA Advisory Board.</span></span></p>\n
LOCATION:
UID:e.832.1225
SEQUENCE:3
DTSTAMP:20260423T195249Z
URL:https://business.virginiapeninsulachamber.com/events/details/youth-leadership-alliance-08-09-2011-1225
END:VEVENT

END:VCALENDAR
