BEGIN:VCALENDAR
VERSION:2.0
PRODID:-//ChamberMaster//Event Calendar 2.0//EN
METHOD:PUBLISH
X-PUBLISHED-TTL:P3D
REFRESH-INTERVAL:P3D
CALSCALE:GREGORIAN
BEGIN:VEVENT
DTSTART:20110315T120000Z
DTEND:20110315T183000Z
X-MICROSOFT-CDO-ALLDAYEVENT:FALSE
SUMMARY:Youth Career Expo-2011
DESCRIPTION:Youth Career Expo is produced through a partnership between Virginia Peninsula Chamber of Commerce\, the Virginia Council for Workforce Development and the six greater Virginia Peninsula school systems.
X-ALT-DESC;FMTTYPE=text/html:<p>\n	<span style="color: rgb(0\, 51\, 102)\;"><span style="font-family: arial\;"><strong><span style="font-size: 14px\;">Youth Career Expo is produced through a partnership between Virginia Peninsula Chamber of Commerce\, the Virginia Council for Workforce Development and the six greater Virginia Peninsula school systems.</span></strong></span></span></p>\n
LOCATION:Hampton Roads Convention Center 1610 Coliseum Dr Hampton\, VA 23666
UID:e.832.139
SEQUENCE:3
DTSTAMP:20260424T043342Z
URL:https://business.virginiapeninsulachamber.com/events/details/youth-career-expo-2011-03-15-2011-139
END:VEVENT

END:VCALENDAR
