BEGIN:VCALENDAR
VERSION:2.0
PRODID:-//ChamberMaster//Event Calendar 2.0//EN
METHOD:PUBLISH
X-PUBLISHED-TTL:P3D
REFRESH-INTERVAL:P3D
CALSCALE:GREGORIAN
BEGIN:VEVENT
DTSTART;VALUE=DATE:20130517
DTEND;VALUE=DATE:20130520
TRANSP:TRANSPARENT
X-MICROSOFT-CDO-ALLDAYEVENT:TRUE
SUMMARY:Women's Family Expo
DESCRIPTION:The Patrick Henry Mall is excited to announce that they are the host for the 2013 Women?s Family Expo! This event will be open to the public Friday-Sunday\, MAY 17-19\, 2013 during the regular mall hours. Today?s women have endless avenues and opportunities to choose from for themselves and their families. Whether you are a student\, expectant mother\, home maker\, career woman or grandmother\, the Women's Family Expo has it all! This is an event you won?t want to miss!
X-ALT-DESC;FMTTYPE=text/html:The Patrick Henry Mall is excited to announce that they are the host for the 2013 Women?s Family Expo! This event will be open to the public Friday-Sunday\, MAY 17-19\, 2013 during the regular mall hours. Today?s women have endless avenues and opportunities to choose from for themselves and their families. Whether you are a student\, expectant mother\, home maker\, career woman or grandmother\, the Women&#39\;s Family Expo has it all! This is an event you won?t want to miss! 
LOCATION:Patrick Henry Mall
UID:e.832.1645
SEQUENCE:3
DTSTAMP:20260422T111622Z
URL:https://business.virginiapeninsulachamber.com/events/details/women-s-family-expo-05-17-2013-1645
END:VEVENT

END:VCALENDAR
