BEGIN:VCALENDAR
VERSION:2.0
PRODID:-//ChamberMaster//Event Calendar 2.0//EN
METHOD:PUBLISH
X-PUBLISHED-TTL:P3D
REFRESH-INTERVAL:P3D
CALSCALE:GREGORIAN
BEGIN:VEVENT
DTSTART:20130317T000000Z
DTEND:20130317T013000Z
X-MICROSOFT-CDO-ALLDAYEVENT:FALSE
SUMMARY:Women of Ireland
DESCRIPTION:Women of Ireland is an innovative and exciting full stage concert production which showcases the next generation of Ireland's leading female performers. The show demonstrates the wealth of talent that exists within Ireland's traditions of music\, song and dance. The common theme inherent in all performances is the presentation of the most revered qualities of Ireland's ethnic music which will be transported from the Irish fireside to the international concert hall platform. In addition\, special significance is placed on depicting the pure qualities of Irish music in a contemporary setting.\n\n\n\n"Contagious Joy\, infectious pleasure\, gripping\, beautiful\, superhuman at times!"\n\n Herald Tribune (FL)
X-ALT-DESC;FMTTYPE=text/html:Women of Ireland is an innovative and exciting full stage concert production which showcases the next generation of Ireland&rsquo\;s leading female performers. The show demonstrates the wealth of talent that exists within Ireland&rsquo\;s traditions of music\, song and dance. The common theme inherent in all performances is the presentation of the most revered qualities of Ireland&rsquo\;s ethnic music which will be transported from the Irish fireside to the international concert hall platform. In addition\, special significance is placed on depicting the pure qualities of Irish music in a contemporary setting.<br />\n<br />\n&ldquo\;Contagious Joy\, infectious pleasure\, gripping\, beautiful\, superhuman at times!&rdquo\;<br />\n&mdash\;Herald Tribune (FL)
LOCATION:Ferguson Center for the Arts
UID:e.832.1535
SEQUENCE:3
DTSTAMP:20260422T142241Z
URL:https://business.virginiapeninsulachamber.com/events/details/women-of-ireland-03-16-2013-1535
END:VEVENT

END:VCALENDAR
