BEGIN:VCALENDAR
VERSION:2.0
PRODID:-//ChamberMaster//Event Calendar 2.0//EN
METHOD:PUBLISH
X-PUBLISHED-TTL:P3D
REFRESH-INTERVAL:P3D
CALSCALE:GREGORIAN
BEGIN:VEVENT
DTSTART:20120308T130000Z
DTEND:20120308T150000Z
X-MICROSOFT-CDO-ALLDAYEVENT:FALSE
SUMMARY:Women in Business "Empowerment Series"
DESCRIPTION:" Tune Up Your Life" \n\n	with LaDonna Gatlin                      \n\n	                        \n\n	This is LaDonna's signature keynote speech and her most requested one. It's also her personal story with a timeless message that inspires the listener to live their values from the inside out. Laced with humor and heartfelt personal stories\, this keynote delivers seven key principles that can guide us through anything life throws at us. As she closes this presentation\, LaDonna literally sings her message straight into the hearts of the attendees. It's a powerful way to take the message home  with a song in their hearts.\n\n	 \n\n	DO ...... Do the right thing\n\n	RE ...... Realize potential\n\n	MI ........ Mind Your Manners\n\n	FA ....... Failures can become fertilizer\n\n	SOL .... Solutions begin with me\n\n	LA ...... Laugh\n\n	TI ....... Time is Valuable\n\n	          .. that will bring us back to\n\n	DO ..... Do the right thing \n\n	 \n\n	Purchase your tickets now.....Seating is limited
X-ALT-DESC;FMTTYPE=text/html:<p>\n	&nbsp\;&nbsp\;&nbsp\;&nbsp\;&nbsp\;&nbsp\;&nbsp\;&nbsp\;&nbsp\;&nbsp\;&nbsp\;&nbsp\;&nbsp\;&nbsp\;&nbsp\;&nbsp\;&nbsp\;&nbsp\;&nbsp\;&nbsp\;</p>\n<p>\n	&nbsp\;&nbsp\;&nbsp\;&nbsp\;&nbsp\;&nbsp\;&nbsp\;&nbsp\;&nbsp\;&nbsp\;&nbsp\;&nbsp\;&nbsp\;<span _fck_bookmark="1" style="display: none">&nbsp\;</span>&nbsp\;&nbsp\;<br />\n	&nbsp\;&nbsp\;<span style="font-size: 22px">&quot\;&nbsp\;Tune Up Your Life&quot\;&nbsp\;<br />\n	<span style="font-size: 16px"><em>with LaDonna Gatlin</em></span></span><span style="font-size: 16px"><em>&nbsp\;&nbsp\;&nbsp\;&nbsp\;&nbsp\;&nbsp\;&nbsp\;&nbsp\;&nbsp\;&nbsp\;&nbsp\;&nbsp\;&nbsp\;&nbsp\;&nbsp\;&nbsp\;&nbsp\;&nbsp\;&nbsp\;&nbsp\;&nbsp\;&nbsp\;</em></span><br />\n	&nbsp\;&nbsp\;&nbsp\;&nbsp\;&nbsp\;&nbsp\;&nbsp\;&nbsp\;&nbsp\;&nbsp\;&nbsp\;&nbsp\;&nbsp\;&nbsp\;&nbsp\;&nbsp\;&nbsp\;&nbsp\;&nbsp\;&nbsp\;&nbsp\;&nbsp\;&nbsp\;&nbsp\;<br />\n	<span style="font-size: 14px"><span style="font-size: 10.5pt"><span style="color: #222222"><span style="font-family: arial\, sans-serif">This is LaDonna&rsquo\;s signature keynote speech&hellip\;and her most requested one. It&rsquo\;s also her personal story with a timeless message that inspires the listener to live their values from the inside out. Laced with humor and heartfelt personal stories\, this keynote delivers seven key principles that can guide us through anything life throws at us. As she closes this presentation\, LaDonna literally sings her message straight into the hearts of the attendees. It&rsquo\;s a powerful way to take the message home &hellip\;with a song in their hearts.</span></span></span></span><br />\n	&nbsp\;</p>\n<p>\n	<span style="font-size: 14px"><strong><em><span style="color: #ff3399"><strong><span style="font-size: 10.5pt"><span style="font-family: arial\, sans-serif">DO</span></span></strong></span></em>&nbsp\;</strong><span style="font-size: 10.5pt"><span style="color: #222222"><span style="font-family: arial\, sans-serif"><strong>...... </strong>Do the right thing</span></span></span><br />\n	<em><strong><span style="color: #ff3399"><span style="font-size: 10.5pt"><span style="font-family: arial\, sans-serif">RE</span></span></span><span style="color: #ff3399"><span style="font-size: 10.5pt"><span style="font-family: arial\, sans-serif"> </span></span></span></strong></em><strong><span style="font-size: 10.5pt"><span style="font-family: arial\, sans-serif">.....</span></span><span style="font-size: 10.5pt"><span style="font-family: arial\, sans-serif">.</span></span></strong><span style="font-size: 10.5pt"><span style="font-family: arial\, sans-serif"> Realize potential</span></span><br />\n	<span style="color: #ff3399"><em><strong><span style="font-size: 10.5pt"><span style="font-family: arial\, sans-serif">MI</span></span></strong></em><strong>&nbsp\;</strong></span><span style="font-size: 10.5pt"><span style="color: #222222"><span style="font-family: arial\, sans-serif"><strong>........ </strong>Mind Your Manners</span></span></span><br />\n	<em><strong><span style="color: #ff3399"><span style="font-size: 10.5pt"><span style="font-family: arial\, sans-serif">FA</span></span></span></strong>&nbsp\;</em><span style="font-size: 10.5pt"><span style="color: #222222"><span style="font-family: arial\, sans-serif"><strong>....... </strong>Failures can become fertilizer</span></span></span><br />\n	<em><strong><span style="color: #ff3399"><span style="font-size: 10.5pt"><span style="font-family: arial\, sans-serif">SOL</span></span></span><span style="color: #ff3399"><span style="font-size: 10.5pt"><span style="font-family: arial\, sans-serif"> </span></span></span></strong></em><span style="font-size: 10.5pt"><span style="color: #222222"><span style="font-family: arial\, sans-serif"><strong>.... </strong>Solutions begin with me</span></span></span><br />\n	<em><strong><span style="color: #ff3399"><span style="font-size: 10.5pt"><span style="font-family: arial\, sans-serif">LA</span></span></span><span style="color: #ff3399"><span style="font-size: 10.5pt"><span style="font-family: arial\, sans-serif"> </span></span></span></strong></em><span style="font-size: 10.5pt"><span style="color: #222222"><span style="font-family: arial\, sans-serif"><strong>...... </strong>Laugh</span></span></span><br />\n	<span style="color: #ff3399"><em><strong><span style="font-size: 10.5pt"><span style="font-family: arial\, sans-serif">TI</span></span></strong></em>&nbsp\;</span><span style="font-size: 10.5pt"><span style="color: #222222"><span style="font-family: arial\, sans-serif"><strong>....... </strong>Time is Valuable</span></span></span><br />\n	<span style="font-size: 10.5pt"><span style="color: #222222"><span style="font-family: arial\, sans-serif">&nbsp\;&nbsp\;&nbsp\;&nbsp\;&nbsp\;&nbsp\;&nbsp\;&nbsp\;&nbsp\;<strong> ..&hellip\;</strong>that will bring us back to</span></span></span><br />\n	<strong><em><span style="color: #ff3399"><strong><span style="font-size: 10.5pt"><span style="font-family: arial\, sans-serif">DO </span></span></strong></span></em><span style="font-size: 10.5pt"><span style="color: #222222"><span style="font-family: arial\, sans-serif">..... </span></span></span></strong><span style="font-size: 10.5pt"><span style="color: #222222"><span style="font-family: arial\, sans-serif">Do the right thing&nbsp\;</span></span></span><br />\n	&nbsp\;<br />\n	<strong>Purchase your<span style="color: #ff3399"><u> tickets </u></span>now.....Seating is limited</strong></span></p>\n
LOCATION:Newport News Marriott at City Center 740 Town Center Drive Newport News\, VA
UID:e.832.1274
SEQUENCE:3
DTSTAMP:20260423T095733Z
URL:https://business.virginiapeninsulachamber.com/events/details/women-in-business-empowerment-series-03-08-2012-1274
END:VEVENT

END:VCALENDAR
