BEGIN:VCALENDAR
VERSION:2.0
PRODID:-//ChamberMaster//Event Calendar 2.0//EN
METHOD:PUBLISH
X-PUBLISHED-TTL:P3D
REFRESH-INTERVAL:P3D
CALSCALE:GREGORIAN
BEGIN:VEVENT
DTSTART:20121119T003000Z
DTEND:20121119T020000Z
X-MICROSOFT-CDO-ALLDAYEVENT:FALSE
SUMMARY:Wanda Sykes
DESCRIPTION:Portsmouth native and Hampton University graduate Wanda Sykes has been called "one of the funniest stand-up comics" by her peers and ranks among Entertainment Weekly's 25 Funniest People in America. Her smart-witted stand up has sent her career in many different areas. With roles on HBO's "Curb Your Enthusiasm" starring opposite Larry David\, to parts in various major feature films\, to her own late night talk show on FOX\, "The Wanda Sykes Show" and her own HBO specials\, Wanda entertains by covering just about everything on life\, family and current events.\n\n\n\nWarning: this show is for mature audiences only.
X-ALT-DESC;FMTTYPE=text/html:Portsmouth native and Hampton University graduate Wanda Sykes has been called &quot\;one of the funniest stand-up comics&quot\; by her peers and ranks among Entertainment Weekly&#39\;s 25 Funniest People in America. Her smart-witted stand up has sent her career in many different areas. With roles on HBO&rsquo\;s &ldquo\;Curb Your Enthusiasm&rdquo\; starring opposite Larry David\, to parts in various major feature films\, to her own late night talk show on FOX\, &ldquo\;The Wanda Sykes Show&rdquo\; and her own HBO specials\, Wanda entertains by covering just about everything on life\, family and current events.<br />\n<br />\nWarning: this show is for mature audiences only.<br />\n
LOCATION:Ferguson Center for the Arts
UID:e.832.1515
SEQUENCE:3
DTSTAMP:20260422T223701Z
URL:https://business.virginiapeninsulachamber.com/events/details/wanda-sykes-11-18-2012-1515
END:VEVENT

END:VCALENDAR
