BEGIN:VCALENDAR
VERSION:2.0
PRODID:-//ChamberMaster//Event Calendar 2.0//EN
METHOD:PUBLISH
X-PUBLISHED-TTL:P3D
REFRESH-INTERVAL:P3D
CALSCALE:GREGORIAN
BEGIN:VEVENT
DTSTART:20110819T130000Z
DTEND:20110819T140000Z
X-MICROSOFT-CDO-ALLDAYEVENT:FALSE
SUMMARY:Virginia Peninsula Chamber of Commerce Executive Roundtable "Airline Update"
DESCRIPTION:Please join us for the Virginia Peninsula Chamber of Commerce Executive Roundtable featuring guest speaker Ken Spirito\, Executive Director of the Newport News / Williamsburg International Airport.  Mr. Spirito  will discuss the impact of AirTran departure on the community and future opportunities for the Newport News / Williamsburg International Airport.\n\n\n\nPlease note 9:00 a.m. starting time.
X-ALT-DESC;FMTTYPE=text/html:Please join us for the Virginia Peninsula Chamber of Commerce Executive Roundtable featuring guest speaker Ken Spirito\, Executive Director of the Newport News / Williamsburg International Airport.&nbsp\; Mr. Spirito&nbsp\; will discuss the impact of AirTran departure on the community and future opportunities for the Newport News / Williamsburg International Airport.<br />\n<br />\n<u><strong><span style="color:#ff0000\;">Please note 9:00 a.m. starting time.</span></strong></u>
LOCATION:Virginia Peninsula Chamber of Commerce Conference Room 21 Enterprise Parkway Suite 100 Hampton\, VA 23666
UID:e.832.1240
SEQUENCE:3
DTSTAMP:20260423T195326Z
URL:https://business.virginiapeninsulachamber.com/events/details/virginia-peninsula-chamber-of-commerce-executive-roundtable-airline-update-08-19-2011-1240
END:VEVENT

END:VCALENDAR
