BEGIN:VCALENDAR
VERSION:2.0
PRODID:-//ChamberMaster//Event Calendar 2.0//EN
METHOD:PUBLISH
X-PUBLISHED-TTL:P3D
REFRESH-INTERVAL:P3D
CALSCALE:GREGORIAN
BEGIN:VEVENT
DTSTART:20130924T150000Z
DTEND:20130924T180000Z
X-MICROSOFT-CDO-ALLDAYEVENT:FALSE
SUMMARY:Troy University - Grand Reopening & Kickoff to Education Tailgate
DESCRIPTION:Please join Troy University as we celebrate our relocation and Grand Reopening at 100 Volvo Pkwy\, Ste 300 in the SunTrust Building at the corner of Battlefield Blvd and Volvo Pkwy in Chesapeake on September 24 from 11am to 2pm. Ribbon cutting with Mayor Alan Krasnoff at noon. Enjoy our ?Kickoff to Education? tailgate themed reception with refreshments and prizes.
X-ALT-DESC;FMTTYPE=text/html:Please join Troy University as we celebrate our relocation and Grand Reopening at 100 Volvo Pkwy\, Ste 300 in the SunTrust Building at the corner of Battlefield Blvd and Volvo Pkwy in Chesapeake on September 24 from 11am to 2pm. Ribbon cutting with Mayor Alan Krasnoff at noon. Enjoy our ?Kickoff to Education? tailgate themed reception with refreshments and prizes. 
LOCATION:100 Volvo Pkwy\, Ste 300 (SunTrust Building) Chesapeake\, VA 23320
UID:e.832.1854
SEQUENCE:3
DTSTAMP:20260422T040037Z
URL:https://business.virginiapeninsulachamber.com/events/details/troy-university-grand-reopening-kickoff-to-education-tailgate-09-24-2013-1854
END:VEVENT

END:VCALENDAR
