BEGIN:VCALENDAR
VERSION:2.0
PRODID:-//ChamberMaster//Event Calendar 2.0//EN
METHOD:PUBLISH
X-PUBLISHED-TTL:P3D
REFRESH-INTERVAL:P3D
CALSCALE:GREGORIAN
BEGIN:VEVENT
DTSTART:20130113T190000Z
DTEND:20130113T220000Z
X-MICROSOFT-CDO-ALLDAYEVENT:FALSE
SUMMARY:Trinity Lutheran School Open House
DESCRIPTION:Please join the faculty\, staff\, and families of Trinity Lutheran School for the annual open house on Jan. 13 at 2 p.m. Overlooking the James River in the Huntington Heights Historic District of Newport News\, Trinity Lutheran School is a socially\, economically\, and racially diverse co-educational day school serving students ages three through grade 8. Currently the only independent school in Hampton Roads which bears the distinction of being an International Baccalaureate candidate school\, we emphasize the lifelong learning process\, the development of the whole child\, and the growth of worldwide intercultural awareness and understanding\, all within the framework provided by a values-based moral compass.
X-ALT-DESC;FMTTYPE=text/html:Please join the faculty\, staff\, and families of Trinity Lutheran School for the annual open house on Jan. 13 at 2 p.m.&nbsp\;<span style="color: rgb(43\, 46\, 45)\; font-family: arial\; line-height: 18px\;">Overlooking the James River in the Huntington Heights Historic District of Newport News\, Trinity Lutheran School is a socially\, economically\, and racially diverse co-educational day school serving students ages three through grade 8. Currently the only independent school in Hampton Roads which bears the distinction of being an International Baccalaureate candidate school\, we emphasize the lifelong learning process\, the development of the whole child\, and the growth of worldwide intercultural awareness and understanding\, all within the framework provided by a values-based moral compass.</span>
LOCATION:6812 River Rd. Newport News\, VA 23607
UID:e.832.1554
SEQUENCE:3
DTSTAMP:20260422T174526Z
URL:https://business.virginiapeninsulachamber.com/events/details/trinity-lutheran-school-open-house-01-13-2013-1554
END:VEVENT

END:VCALENDAR
