BEGIN:VCALENDAR
VERSION:2.0
PRODID:-//ChamberMaster//Event Calendar 2.0//EN
METHOD:PUBLISH
X-PUBLISHED-TTL:P3D
REFRESH-INTERVAL:P3D
CALSCALE:GREGORIAN
BEGIN:VEVENT
DTSTART;VALUE=DATE:20110827
DTEND;VALUE=DATE:20110828
TRANSP:TRANSPARENT
X-MICROSOFT-CDO-ALLDAYEVENT:TRUE
SUMMARY:Tour The Learning Experience. Enjoy pony rides/petting zoo/hamburgers&hot dogs
DESCRIPTION:
X-ALT-DESC;FMTTYPE=text/html:
LOCATION:Kiln Creek Blvd to Providence
UID:e.832.1235
SEQUENCE:3
DTSTAMP:20260423T195513Z
URL:https://business.virginiapeninsulachamber.com/events/details/tour-the-learning-experience-enjoy-pony-rides-petting-zoo-hamburgers-hot-dogs-08-27-2011-1235
END:VEVENT

END:VCALENDAR
