BEGIN:VCALENDAR
VERSION:2.0
PRODID:-//ChamberMaster//Event Calendar 2.0//EN
METHOD:PUBLISH
X-PUBLISHED-TTL:P3D
REFRESH-INTERVAL:P3D
CALSCALE:GREGORIAN
BEGIN:VEVENT
DTSTART:20121006T140000Z
DTEND:20121006T180000Z
X-MICROSOFT-CDO-ALLDAYEVENT:FALSE
SUMMARY:Think Pink Saturday---Breast Cancer Awareness Day
DESCRIPTION:Join Us at Pearson Toyota for a day of caring and sharing with American Cancer Society - Making Strides Against Breast Cancer\; Virginia Breast Cancer Foundation\; Beyond Boobs\; Riverside Cancer Care Center\; Sentara Dorothy G. Hoefer Comprehensive Breast Center and Virginia Oncology Associates. \n\n\n\n                                              Bake Sale       -----            Door Prizes        -----    Raffles
X-ALT-DESC;FMTTYPE=text/html:Join Us at Pearson Toyota for a day of caring and sharing with American Cancer Society - Making Strides Against Breast Cancer\; Virginia Breast Cancer Foundation\; Beyond Boobs\; Riverside Cancer Care Center\; Sentara Dorothy G. Hoefer Comprehensive Breast Center and Virginia Oncology Associates.&nbsp\;<br />\n<br />\n<span _fck_bookmark="1" style="display: none">&nbsp\;</span><span _fck_bookmark="1" style="display: none">&nbsp\;</span><span _fck_bookmark="1" style="display: none">&nbsp\;</span>&nbsp\;&nbsp\;&nbsp\;&nbsp\;&nbsp\;&nbsp\;&nbsp\;&nbsp\;&nbsp\;&nbsp\;&nbsp\;&nbsp\;&nbsp\;&nbsp\;&nbsp\;&nbsp\;&nbsp\;&nbsp\;&nbsp\;&nbsp\;&nbsp\;&nbsp\;&nbsp\;&nbsp\;&nbsp\;&nbsp\;&nbsp\;&nbsp\;&nbsp\;&nbsp\;&nbsp\;&nbsp\;&nbsp\;&nbsp\;&nbsp\;&nbsp\;&nbsp\;&nbsp\;&nbsp\;&nbsp\;&nbsp\;&nbsp\; Bake Sale&nbsp\;&nbsp\;&nbsp\;&nbsp\;&nbsp\;&nbsp\; -----&nbsp\;&nbsp\;&nbsp\;&nbsp\;&nbsp\;&nbsp\;&nbsp\;&nbsp\;&nbsp\;&nbsp\;&nbsp\; Door Prizes&nbsp\;&nbsp\;&nbsp\;&nbsp\;&nbsp\;&nbsp\;&nbsp\; -----&nbsp\;&nbsp\;&nbsp\; Raffles<br />\n<span _fck_bookmark="1" style="display: none">&nbsp\;</span><span _fck_bookmark="1" style="display: none">&nbsp\;</span><span _fck_bookmark="1" style="display: none">&nbsp\;</span>
LOCATION:12978 Jefferson Avenue\, Newport News\, VA
UID:e.832.1503
SEQUENCE:3
DTSTAMP:20260422T223838Z
URL:https://business.virginiapeninsulachamber.com/events/details/think-pink-saturday-breast-cancer-awareness-day-10-06-2012-1503
END:VEVENT

END:VCALENDAR
