BEGIN:VCALENDAR
VERSION:2.0
PRODID:-//ChamberMaster//Event Calendar 2.0//EN
METHOD:PUBLISH
X-PUBLISHED-TTL:P3D
REFRESH-INTERVAL:P3D
CALSCALE:GREGORIAN
BEGIN:VEVENT
DTSTART:20121212T003000Z
DTEND:20121212T020000Z
X-MICROSOFT-CDO-ALLDAYEVENT:FALSE
SUMMARY:The Sound of Christmas with Empire Brass and Elisabeth von Trapp
DESCRIPTION:Singing professionally since childhood\, Elisabeth has enthralled audiences from European cathedrals to Washington D.C.'s Kennedy Center. The Empire Brass enjoys an international reputation as North America's finest brass quintet\, renowned for its brilliant virtuosity and the unparalleled diversity of its repertoire. With a voice that critics have called "hauntingly clear" (New York Times)\, Elisabeth\, along with the Empire Brass\, " will send a thrill of pleasure through your nervous system" (Boston Globe). The highlight of the evening is a wonderful medley from The Sound of Music\, wherein the guitar solo Edelweiss flows into an extraordinary rendition of Stille Nacht. Truly a night of enchanting sounds will permeate the air\, all-the-while rekindling fond memories and creating new ones.
X-ALT-DESC;FMTTYPE=text/html:Singing professionally since childhood\, Elisabeth has enthralled audiences from European cathedrals to Washington D.C.&rsquo\;s Kennedy Center. The Empire Brass enjoys an international reputation as North America&#39\;s finest brass quintet\, renowned for its brilliant virtuosity and the unparalleled diversity of its repertoire. With a voice that critics have called &ldquo\;hauntingly clear&rdquo\; (New York Times)\, Elisabeth\, along with the Empire Brass\, &ldquo\;&hellip\;will send a thrill of pleasure through your nervous system&rdquo\; (Boston Globe). The highlight of the evening is a wonderful medley from The Sound of Music\, wherein the guitar solo Edelweiss flows into an extraordinary rendition of Stille Nacht. Truly a night of enchanting sounds will permeate the air\, all-the-while rekindling fond memories and creating new ones.<br />\n
LOCATION:Ferguson Center for the Arts
UID:e.832.1524
SEQUENCE:3
DTSTAMP:20260422T192800Z
URL:https://business.virginiapeninsulachamber.com/events/details/the-sound-of-christmas-with-empire-brass-and-elisabeth-von-trapp-12-11-2012-1524
END:VEVENT

END:VCALENDAR
