BEGIN:VCALENDAR
VERSION:2.0
PRODID:-//ChamberMaster//Event Calendar 2.0//EN
METHOD:PUBLISH
X-PUBLISHED-TTL:P3D
REFRESH-INTERVAL:P3D
CALSCALE:GREGORIAN
BEGIN:VEVENT
DTSTART:20130210T003000Z
DTEND:20130210T020000Z
X-MICROSOFT-CDO-ALLDAYEVENT:FALSE
SUMMARY:The Price is Right\, LIVE! at the Ferguson Center
DESCRIPTION:The Price Is Right Live is the hit interactive stage show that gives contestants pulled right from the audience the chance to "come on down" to win appliances\, vacations and even new cars by playing classic games from television's longest running and most popular game show. From Plinko to Cliffhangers to the Big Wheel\, and even the fabulous showcase\, all the favorite games are played just like the TV show. Even if your name is not called to play you still have a chance to win. Guest's names are called out throughout the show to win prizes just for being there. Playing to near sold out audiences for six years\, the Price Is Right Live has given away over 10 million dollars in cash and prizes and sold over 1.2 million tickets. If you enjoy the rush of emotions experienced while watching the show on television\, just imagine the possibilities if you were actually in the audience watching it live.
X-ALT-DESC;FMTTYPE=text/html:<span class="style35">The Price Is Right Live is the hit interactive stage show that gives contestants pulled right from the audience the chance to &quot\;come on down&quot\; to win appliances\, vacations and even new cars by playing classic games from television&#39\;s longest running and most popular game show. From Plinko to Cliffhangers to the Big Wheel\, and even the fabulous showcase\, all the favorite games are played just like the TV show. Even if your name is not called to play you still have a chance to win. Guest&#39\;s names are called out throughout the show to win prizes just for being there. Playing to near sold out audiences for six years\, the Price Is Right Live has given away over 10 million dollars in cash and prizes and sold over 1.2 million tickets. If you enjoy the rush of emotions experienced while watching the show on television\, just imagine the possibilities if you were actually in the audience watching it live.</span>
LOCATION:Ferguson Center for the Arts\, 1 Avenue of the Arts
UID:e.832.1556
SEQUENCE:3
DTSTAMP:20260422T160953Z
URL:https://business.virginiapeninsulachamber.com/events/details/the-price-is-right-live-at-the-ferguson-center-02-09-2013-1556
END:VEVENT

END:VCALENDAR
