BEGIN:VCALENDAR
VERSION:2.0
PRODID:-//ChamberMaster//Event Calendar 2.0//EN
METHOD:PUBLISH
X-PUBLISHED-TTL:P3D
REFRESH-INTERVAL:P3D
CALSCALE:GREGORIAN
BEGIN:VEVENT
DTSTART:20130126T010000Z
DTEND:20130126T023000Z
X-MICROSOFT-CDO-ALLDAYEVENT:FALSE
SUMMARY:The Pipes and Drums of the Black Watch and the Band of the Scots Guards
DESCRIPTION:The legendary Pipes\, Drums and Highland Dancers of Scotland's Black Watch join forces with the Band of the Scots Guards for a concert celebrating the music of England\, Ireland\, Scotland and Wales. The Black Watch is the most famous and adored bagpipe band in the world. The joint concert with the renowned musicians of the Band of the Scots Guards will feature a unique blend of music\, pageantry and history highlighted by traditional folk music and military tunes that convey the rich legacy of the British Isles. The stirring sound of bagpipes\, drums\, band music and all the color and pageantry of the British military will appeal to the whole family.
X-ALT-DESC;FMTTYPE=text/html:The legendary Pipes\, Drums and Highland Dancers of Scotland&#39\;s Black Watch join forces with the Band of the Scots Guards for a concert celebrating the music of England\, Ireland\, Scotland and Wales. The Black Watch is the most famous and adored bagpipe band in the world. The joint concert with the renowned musicians of the Band of the Scots Guards will feature a unique blend of music\, pageantry and history highlighted by traditional folk music and military tunes that convey the rich legacy of the British Isles. The stirring sound of bagpipes\, drums\, band music and all the color and pageantry of the British military will appeal to the whole family.
LOCATION:Ferguson Center for the Arts
UID:e.832.1526
SEQUENCE:3
DTSTAMP:20260422T175157Z
URL:https://business.virginiapeninsulachamber.com/events/details/the-pipes-and-drums-of-the-black-watch-and-the-band-of-the-scots-guards-01-25-2013-1526
END:VEVENT

END:VCALENDAR
