BEGIN:VCALENDAR
VERSION:2.0
PRODID:-//ChamberMaster//Event Calendar 2.0//EN
METHOD:PUBLISH
X-PUBLISHED-TTL:P3D
REFRESH-INTERVAL:P3D
CALSCALE:GREGORIAN
BEGIN:VEVENT
DTSTART:20121111T000000Z
DTEND:20121111T010000Z
X-MICROSOFT-CDO-ALLDAYEVENT:FALSE
SUMMARY:The Outlaws with Tommy Castro & The Painkillers plus the Kenny Young Band
DESCRIPTION:Southern Rock Legends\, THE OUTLAWS\, who brought you Rock radio favorites "There Goes Another Love Song"\, "Green Grass & High Tides"\, "Knoxville Girl"\, and "Freeborn Man" are bringing their Classic Rock sound to the Ferguson Center in support of their first studio album in nearly 20 years\, titled "It's About Pride". Known as "The Florida Guitar Army" by their fans\, THE OUTLAWS have earned a formidable reputation as an incendiary live act touring with friends The Allman Brothers Band\, Lynyrd Skynyrd\, The Marshall Tucker Band and The Charlie Daniels Band as well as Doobie Brothers\, The Who\, Eagles and The Rolling Stones.\n\n\n\nJoining The Outlaws will be Special Guest and Award-Winning Blues Favorite\, Tommy Castro and The Painkillers\, the 2009 and 2010 recipient of the B.B. King Entertainer of the Year award\, 2010 Band of the Year\, 2010 Contemporary Blues Male Artist of the Year\, and 2010 Contemporary Blues Album of the Year.\n\n\n\nPlus\, rising regional Americana music artist\, the Kenny Young Band.
X-ALT-DESC;FMTTYPE=text/html:Southern Rock Legends\, THE OUTLAWS\, who brought you Rock radio favorites &quot\;There Goes Another Love Song&quot\;\, &quot\;Green Grass &amp\; High Tides&quot\;\, &quot\;Knoxville Girl&quot\;\, and &quot\;Freeborn Man&quot\; are bringing their Classic Rock sound to the Ferguson Center in support of their first studio album in nearly 20 years\, titled &quot\;It&#39\;s About Pride&quot\;. Known as &ldquo\;The Florida Guitar Army&rdquo\; by their fans\, THE OUTLAWS have earned a formidable reputation as an incendiary live act touring with friends The Allman Brothers Band\, Lynyrd Skynyrd\, The Marshall Tucker Band and The Charlie Daniels Band as well as Doobie Brothers\, The Who\, Eagles and The Rolling Stones.<br />\n<br />\nJoining The Outlaws will be Special Guest and Award-Winning Blues Favorite\, Tommy Castro and The Painkillers\, the 2009 and 2010 recipient of the B.B. King Entertainer of the Year award\, 2010 Band of the Year\, 2010 Contemporary Blues Male Artist of the Year\, and 2010 Contemporary Blues Album of the Year.<br />\n<br />\nPlus\, rising regional Americana music artist\, the Kenny Young Band.
LOCATION:Ferguson Center for the Arts
UID:e.832.1512
SEQUENCE:3
DTSTAMP:20260424T082708Z
URL:https://business.virginiapeninsulachamber.com/events/details/the-outlaws-with-tommy-castro-the-painkillers-plus-the-kenny-young-band-11-10-2012-1512
END:VEVENT

END:VCALENDAR
