BEGIN:VCALENDAR
VERSION:2.0
PRODID:-//ChamberMaster//Event Calendar 2.0//EN
METHOD:PUBLISH
X-PUBLISHED-TTL:P3D
REFRESH-INTERVAL:P3D
CALSCALE:GREGORIAN
BEGIN:VEVENT
DTSTART:20121211T003000Z
DTEND:20121211T020000Z
X-MICROSOFT-CDO-ALLDAYEVENT:FALSE
SUMMARY:The Irish Tenors--The Premiere Irish Holiday Celebration Tour
DESCRIPTION:Finbar Wright\, Anthony Kearns\, and Ronan Tynan have been touring as The Irish Tenors since 1998. Their faces and voices are familiar to PBS audiences through several specials\, including the "Ellis Island" recordings that sold a million CDs and DVDs. We Three Kings is their best-selling Christmas album and includes superb Christmas gems which will be featured during this legendary holiday tour. Generations of families who love their music and the special sparkle that marks their holiday have made attending the Irish Tenors' Christmas shows a tradition. Moreover\, they've proven themselves gifted interpreters of a wide range of material\, with such songs as My Heart Will Go On (from Titanic) and Fairytale Of New York (previously recorded by Kirsty MacColl and The Pogues). These songs live comfortably in their repertoire alongside Danny Boy\, Whiskey in the Jar and Fields Of Athenry.
X-ALT-DESC;FMTTYPE=text/html:Finbar Wright\, Anthony Kearns\, and Ronan Tynan have been touring as The Irish Tenors since 1998. Their faces and voices are familiar to PBS audiences through several specials\, including the &ldquo\;Ellis Island&rdquo\; recordings that sold a million CDs and DVDs. We Three Kings is their best-selling Christmas album and includes superb Christmas gems which will be featured during this legendary holiday tour. Generations of families who love their music and the special sparkle that marks their holiday have made attending the Irish Tenors&rsquo\; Christmas shows a tradition. Moreover\, they&rsquo\;ve proven themselves gifted interpreters of a wide range of material\, with such songs as My Heart Will Go On (from Titanic) and Fairytale Of New York (previously recorded by Kirsty MacColl and The Pogues). These songs live comfortably in their repertoire alongside Danny Boy\, Whiskey in the Jar and Fields Of Athenry.
LOCATION:Ferguson Center for the Arts
UID:e.832.1523
SEQUENCE:3
DTSTAMP:20260422T192745Z
URL:https://business.virginiapeninsulachamber.com/events/details/the-irish-tenors-the-premiere-irish-holiday-celebration-tour-12-10-2012-1523
END:VEVENT

END:VCALENDAR
