BEGIN:VCALENDAR
VERSION:2.0
PRODID:-//ChamberMaster//Event Calendar 2.0//EN
METHOD:PUBLISH
X-PUBLISHED-TTL:P3D
REFRESH-INTERVAL:P3D
CALSCALE:GREGORIAN
BEGIN:VEVENT
DTSTART:20131030T130000Z
DTEND:20131030T140000Z
X-MICROSOFT-CDO-ALLDAYEVENT:FALSE
SUMMARY:The Doctor Is In
DESCRIPTION:Riverside's health lecture series\, The Doctor Is In\, will bring you an informative and valuable hour of health topics with special interest to older adults and women. Join us the last Wednesday of each month. Each of the interesting lectures includes a question and answer period to give attendees a chance to expand on some of the health issues raised. The lectures are free. The coffee is free. And the results can be highly valuable for your health. Don?t miss this thought-provoking series. For more information call 875-7880. Brought to you by Riverside Medical Group.
X-ALT-DESC;FMTTYPE=text/html:Riverside&#39\;s health lecture series\, The Doctor Is In\, will bring you an informative and valuable hour of health topics with special interest to older adults and women. Join us the last Wednesday of each month. Each of the interesting lectures includes a question and answer period to give attendees a chance to expand on some of the health issues raised. The lectures are free. The coffee is free. And the results can be highly valuable for your health. Don?t miss this thought-provoking series. For more information call 875-7880. Brought to you by Riverside Medical Group. 
LOCATION:Patrick Henry Mall food court
UID:e.832.1656
SEQUENCE:3
DTSTAMP:20260422T020541Z
URL:https://business.virginiapeninsulachamber.com/events/details/the-doctor-is-in-10-30-2013-1656
END:VEVENT

END:VCALENDAR
