BEGIN:VCALENDAR
VERSION:2.0
PRODID:-//ChamberMaster//Event Calendar 2.0//EN
METHOD:PUBLISH
X-PUBLISHED-TTL:P3D
REFRESH-INTERVAL:P3D
CALSCALE:GREGORIAN
BEGIN:VEVENT
DTSTART:20130516T153000Z
DTEND:20130516T230000Z
X-MICROSOFT-CDO-ALLDAYEVENT:FALSE
SUMMARY:The Chesapeake Benefit Golf Tournament
DESCRIPTION:Join us for a day of fun and support The Chesapeake. Proceeds from the Tournament will benefit The Chesapeake's Endowed Fund for Benevolence\, which helps seniors enjoy a loving\, welcoming community with quality care\, security and peace of mind through their lifetime.
X-ALT-DESC;FMTTYPE=text/html:Join us for a day of fun and support The Chesapeake. Proceeds from the Tournament will benefit The Chesapeake&#39\;s Endowed Fund for Benevolence\, which helps seniors enjoy a loving\, welcoming community with quality care\, security and peace of mind through their lifetime.
LOCATION:Kiln Creek Golf Club
UID:e.832.1630
SEQUENCE:3
DTSTAMP:20260422T110737Z
URL:https://business.virginiapeninsulachamber.com/events/details/the-chesapeake-benefit-golf-tournament-05-16-2013-1630
END:VEVENT

END:VCALENDAR
