BEGIN:VCALENDAR
VERSION:2.0
PRODID:-//ChamberMaster//Event Calendar 2.0//EN
METHOD:PUBLISH
X-PUBLISHED-TTL:P3D
REFRESH-INTERVAL:P3D
CALSCALE:GREGORIAN
BEGIN:VEVENT
DTSTART;VALUE=DATE:20140522
DTEND;VALUE=DATE:20140523
TRANSP:TRANSPARENT
X-MICROSOFT-CDO-ALLDAYEVENT:TRUE
SUMMARY:The Chesapeake Annual Benefit Golf Tournament
DESCRIPTION:The Chesapeake Continuing Care Retirement Community invites one and all for a day of fellowship and fun. Proceeds from our annual outing benefit seniors in our community who have outlived their financial assets to pay for their care. Each year\, Virginia Baptist Homes (The Chesapeake's corporate office) awards more than $1\,000\,000 in financial assistance to deserving seniors in our four communities in Virginia. Registration includes greens and cart fees\, practice range balls\, boxed lunch\, snacks at the Club and a spectacular Awards Banquet at The Chesapeake\, just 5 minutes from Kiln Creek. Tournament prizes plus games offer fun for all.
X-ALT-DESC;FMTTYPE=text/html:The Chesapeake Continuing Care Retirement Community invites one and all for a day of fellowship and fun. Proceeds from our annual outing benefit seniors in our community who have outlived their financial assets to pay for their care. Each year\, Virginia Baptist Homes (The Chesapeake&#39\;s corporate office) awards more than $1\,000\,000 in financial assistance to deserving seniors in our four communities in Virginia. Registration includes greens and cart fees\, practice range balls\, boxed lunch\, snacks at the Club and a spectacular Awards Banquet at The Chesapeake\, just 5 minutes from Kiln Creek. Tournament prizes plus games offer fun for all. 
LOCATION:Kiln Creek Golf Club
UID:e.832.1927
SEQUENCE:3
DTSTAMP:20260421T165026Z
URL:https://business.virginiapeninsulachamber.com/events/details/the-chesapeake-annual-benefit-golf-tournament-05-22-2014-1927
END:VEVENT

END:VCALENDAR
