BEGIN:VCALENDAR
VERSION:2.0
PRODID:-//ChamberMaster//Event Calendar 2.0//EN
METHOD:PUBLISH
X-PUBLISHED-TTL:P3D
REFRESH-INTERVAL:P3D
CALSCALE:GREGORIAN
BEGIN:VEVENT
DTSTART:20160406T110000Z
DTEND:20160406T123000Z
X-MICROSOFT-CDO-ALLDAYEVENT:FALSE
SUMMARY:Thanks Brain ? Morning Blend
DESCRIPTION:APRIL 6 @ 7:00 AM - 8:30 PM\n\n\n\nDetails:\n\nThis Month's Speaker: Dr. Leon E. Moores\, Pediatric Neurosurgeon\n\nSchedule:\n\n7:00   7:30 Arrival and Networking\n\n7:30   7:50ish Presentation\n\n8:00   8:30ish Discussion and Networking\n\nDr. Leon E. Moores is board certified in neurological surgery. He currently serves as the CEO of Pediatric Specialists of Virginia and as the Director of Pediatric Neurosciences at INOVA\, Fairfax\, VA.\n\nHe joins Inova Medical Group with over 13 years of clinical experience as a pediatric neurosurgeon. Most recently Dr. Moores served as a Professor of Surgery and Pediatrics at the Uniformed Services University School of Medicine. He has been assigned overseas twice in support of our troops in Afghanistan and Iraq.\n\nAt this Thanks Brain Morning Blend\, Leon will be speaking about leadership & medical innovation.\n\nSo\, come on. Start your day off right. Learn something new\, meet new people and leave inspired.\n\nThank your brain. It's that simple.\n\nThis event is free.\n\n#thanksbrain
X-ALT-DESC;FMTTYPE=text/html:<h3>APRIL 6 @ 7:00 AM&nbsp\;-&nbsp\;8:30 PM</h3>\n\n<div style="margin-left:-15px\; margin-right:-15px">\n<div style="margin-left:0px\; margin-right:0px">\n<p>Details:</p>\n\n<p>This Month&rsquo\;s Speaker: Dr. Leon E. Moores\, Pediatric Neurosurgeon</p>\n\n<p>Schedule:</p>\n\n<p>7:00 &ndash\; 7:30 Arrival and Networking</p>\n\n<p>7:30 &ndash\; 7:50ish Presentation</p>\n\n<p>8:00 &ndash\; 8:30ish Discussion and Networking</p>\n\n<p>Dr. Leon E. Moores is board certified in neurological surgery. He currently serves as the CEO of Pediatric Specialists of Virginia and as the Director of Pediatric Neurosciences at INOVA\, Fairfax\, VA.</p>\n\n<p>He joins Inova Medical Group with over 13 years of clinical experience as a pediatric neurosurgeon. Most recently Dr. Moores served as a Professor of Surgery and Pediatrics at the Uniformed Services University School of Medicine. He has been assigned overseas twice in support of our troops in Afghanistan and Iraq.</p>\n\n<p>At this&nbsp\;<em>Thanks Brain Morning Blend</em>\, Leon will be speaking about leadership &amp\; medical innovation.</p>\n\n<p>So\, come on. Start your day off right. Learn something new\, meet new people and leave inspired.</p>\n\n<p>Thank your brain. It&rsquo\;s that simple.</p>\n\n<p>This event is free.</p>\n\n<p>#thanksbrain</p>\n</div>\n</div>\n
LOCATION:parari headquarters 34 Research Dr Hampton\, VA 23665 United States
UID:e.832.6541
SEQUENCE:3
DTSTAMP:20260422T085725Z
URL:https://business.virginiapeninsulachamber.com/events/details/thanks-brain-morning-blend-04-06-2016-6541
END:VEVENT

END:VCALENDAR
