BEGIN:VCALENDAR
VERSION:2.0
PRODID:-//ChamberMaster//Event Calendar 2.0//EN
METHOD:PUBLISH
X-PUBLISHED-TTL:P3D
REFRESH-INTERVAL:P3D
CALSCALE:GREGORIAN
BEGIN:VEVENT
DTSTART:20110428T220000Z
DTEND:20110429T013000Z
X-MICROSOFT-CDO-ALLDAYEVENT:FALSE
SUMMARY:Tastefully Yours...Peninsula's Best
DESCRIPTION:Join us for the 18th annual Tastefully Yours...Peninsula's Best!  Treat yourself to samples from over 30 of the Peninsula's finsest eating establishments and an unbelievable array of fine wines and beers...Delight in the pleasure of our one-of-a-kind silent auction or enjoy dancing the night away to live music as the cheers from the casino floor keep the crowd entertained!\n\n\n\nAll proceeds will benefit the Foodbank of the Virginia Peninsula to assist in feeding the hungry children\, families and seniors across the Peninsula community!
X-ALT-DESC;FMTTYPE=text/html:Join us for the 18th annual Tastefully Yours...Peninsula's Best!  Treat yourself to samples from over 30 of the Peninsula's finsest eating establishments and an unbelievable array of fine wines and beers...Delight in the pleasure of our one-of-a-kind silent auction or enjoy dancing the night away to live music as the cheers from the casino floor keep the crowd entertained!\n<br>\n<br>All proceeds will benefit the Foodbank of the Virginia Peninsula to assist in feeding the hungry children\, families and seniors across the Peninsula community!
LOCATION:Hampton Convention Center
UID:e.832.171
SEQUENCE:3
DTSTAMP:20260424T014334Z
URL:https://business.virginiapeninsulachamber.com/events/details/tastefully-yours-peninsula-s-best-04-28-2011-171
END:VEVENT

END:VCALENDAR
