BEGIN:VCALENDAR
VERSION:2.0
PRODID:-//ChamberMaster//Event Calendar 2.0//EN
METHOD:PUBLISH
X-PUBLISHED-TTL:P3D
REFRESH-INTERVAL:P3D
CALSCALE:GREGORIAN
BEGIN:VEVENT
DTSTART:20130914T220000Z
DTEND:20130914T160000Z
X-MICROSOFT-CDO-ALLDAYEVENT:FALSE
SUMMARY:Star Party/Laser Light Shows
DESCRIPTION:Free observing begins at sunset at the Virginia Living Museum. Choose among four shows\, $6 each: "Virginia Skies" at 7:30 p.m.\, "Laser Magic" at 8:30 p.m.\, "Laser Queen" at 10 p.m. and "Dark Side of the Moon" at 11:30 p.m. The Wild Side Caf  is open 6 to 9 p.m.
X-ALT-DESC;FMTTYPE=text/html:<span style="font-family: Times\; font-size: 16px\;">Free observing begins at sunset at the Virginia Living Museum. Choose among four shows\, $6 each: &ldquo\;Virginia Skies&rdquo\; at&nbsp\;</span><span class="aBn" data-term="goog_1050051543" style="border-bottom-width: 1px\; border-bottom-style: dashed\; border-bottom-color: rgb(204\, 204\, 204)\; position: relative\; top: -2px\; z-index: 0\; font-family: Times\; font-size: 16px\;" tabindex="0"><span class="aQJ" style="position: relative\; top: 2px\; z-index: -1\;">7:30 p.m.</span></span><span style="font-family: Times\; font-size: 16px\;">\, &ldquo\;Laser Magic&rdquo\; at&nbsp\;</span><span class="aBn" data-term="goog_1050051544" style="border-bottom-width: 1px\; border-bottom-style: dashed\; border-bottom-color: rgb(204\, 204\, 204)\; position: relative\; top: -2px\; z-index: 0\; font-family: Times\; font-size: 16px\;" tabindex="0"><span class="aQJ" style="position: relative\; top: 2px\; z-index: -1\;">8:30 p.m.</span></span><span style="font-family: Times\; font-size: 16px\;">\, &ldquo\;Laser Queen&rdquo\; at&nbsp\;</span><span class="aBn" data-term="goog_1050051545" style="border-bottom-width: 1px\; border-bottom-style: dashed\; border-bottom-color: rgb(204\, 204\, 204)\; position: relative\; top: -2px\; z-index: 0\; font-family: Times\; font-size: 16px\;" tabindex="0"><span class="aQJ" style="position: relative\; top: 2px\; z-index: -1\;">10 p.m.</span></span><span style="font-family: Times\; font-size: 16px\;">&nbsp\;and &ldquo\;Dark Side of the Moon&rdquo\; at 11:30 p.m. The Wild Side Caf&eacute\; is open&nbsp\;</span><span class="aBn" data-term="goog_1050051547" style="border-bottom-width: 1px\; border-bottom-style: dashed\; border-bottom-color: rgb(204\, 204\, 204)\; position: relative\; top: -2px\; z-index: 0\; font-family: Times\; font-size: 16px\;" tabindex="0"><span class="aQJ" style="position: relative\; top: 2px\; z-index: -1\;">6 to 9 p.m.</span></span>
LOCATION:
UID:e.832.1855
SEQUENCE:3
DTSTAMP:20260422T035418Z
URL:https://business.virginiapeninsulachamber.com/events/details/star-party-laser-light-shows-09-14-2013-1855
END:VEVENT

END:VCALENDAR
