BEGIN:VCALENDAR
VERSION:2.0
PRODID:-//ChamberMaster//Event Calendar 2.0//EN
METHOD:PUBLISH
X-PUBLISHED-TTL:P3D
REFRESH-INTERVAL:P3D
CALSCALE:GREGORIAN
BEGIN:VEVENT
DTSTART;VALUE=DATE:20130313
DTEND;VALUE=DATE:20130314
TRANSP:TRANSPARENT
X-MICROSOFT-CDO-ALLDAYEVENT:TRUE
SUMMARY:St. Andrew's Episcopal School Open House
DESCRIPTION:St. Andrew's Episcopal School will have an evening Open House on Wednesday\, March 13\, 2013 from 5 p.m. to 7 p.m. At this time there will also be an informational meeting about our Pre K3 Program\, a new program for the 2013-2014 academic year.  Please join us to learn more about our school.
X-ALT-DESC;FMTTYPE=text/html:St. Andrew&#39\;s Episcopal School will have an evening Open House on Wednesday\, March 13\, 2013 from 5 p.m. to 7 p.m. At this time there will also be an informational meeting about our Pre K3 Program\, a new program for the 2013-2014 academic year.&nbsp\; Please join us to learn more about our school.
LOCATION:45 Main Street\, Newport News\, Virginia 23601
UID:e.832.1597
SEQUENCE:3
DTSTAMP:20260422T141804Z
URL:https://business.virginiapeninsulachamber.com/events/details/st-andrew-s-episcopal-school-open-house-03-13-2013-1597
END:VEVENT

END:VCALENDAR
