BEGIN:VCALENDAR
VERSION:2.0
PRODID:-//ChamberMaster//Event Calendar 2.0//EN
METHOD:PUBLISH
X-PUBLISHED-TTL:P3D
REFRESH-INTERVAL:P3D
CALSCALE:GREGORIAN
BEGIN:VEVENT
DTSTART;VALUE=DATE:20130310
DTEND;VALUE=DATE:20130311
TRANSP:TRANSPARENT
X-MICROSOFT-CDO-ALLDAYEVENT:TRUE
SUMMARY:St. Andrew's Episcopal School Open House
DESCRIPTION:
X-ALT-DESC;FMTTYPE=text/html:
LOCATION:45 Main Street\, Newport News\, Viriginia 23601
UID:e.832.1596
SEQUENCE:3
DTSTAMP:20260422T141806Z
URL:https://business.virginiapeninsulachamber.com/events/details/st-andrew-s-episcopal-school-open-house-03-10-2013-1596
END:VEVENT

END:VCALENDAR
