BEGIN:VCALENDAR
VERSION:2.0
PRODID:-//ChamberMaster//Event Calendar 2.0//EN
METHOD:PUBLISH
X-PUBLISHED-TTL:P3D
REFRESH-INTERVAL:P3D
CALSCALE:GREGORIAN
BEGIN:VEVENT
DTSTART;VALUE=DATE:20131011
DTEND;VALUE=DATE:20131014
TRANSP:TRANSPARENT
X-MICROSOFT-CDO-ALLDAYEVENT:TRUE
SUMMARY:Sports Card Show
DESCRIPTION:The show for sports enthusiasts! Everything from the latest sports cards to memorabilia and plaques of your favorite athletes and teams!
X-ALT-DESC;FMTTYPE=text/html:The show for sports enthusiasts! Everything from the latest sports cards to memorabilia and plaques of your favorite athletes and teams! 
LOCATION:Patrick Henry Mall center court
UID:e.832.1650
SEQUENCE:3
DTSTAMP:20260422T020634Z
URL:https://business.virginiapeninsulachamber.com/events/details/sports-card-show-10-11-2013-1650
END:VEVENT

END:VCALENDAR
