BEGIN:VCALENDAR
VERSION:2.0
PRODID:-//ChamberMaster//Event Calendar 2.0//EN
METHOD:PUBLISH
X-PUBLISHED-TTL:P3D
REFRESH-INTERVAL:P3D
CALSCALE:GREGORIAN
BEGIN:VEVENT
DTSTART:20121113T003000Z
DTEND:20121113T020000Z
X-MICROSOFT-CDO-ALLDAYEVENT:FALSE
SUMMARY:"Spirituals to Funk" starring Dr. John and the Blind Boys of Alabama
DESCRIPTION:"Spirituals to Funk" features Rock & Roll Hall of Fame Inductee Dr. John and 5-time Grammy Award Winners\, The Blind Boys of Alabama. Under Dr. John's musical direction\, the world premiere of "Spirituals to Funk" represents the first-ever touring partnership between two icons of American music. Dr. John and the Blind Boys of Alabama's performance will build on a legacy that started with Dr. John's appearance on the Blind Boys' Grammy Award-winning CD "Down in New Orleans\," and continues with the Blind Boys' appearance on Dr. John's upcoming CD celebrating Louis Armstrong's 100th birthday. Based on the legendary Carnegie Hall Spirituals to Swing concerts produced by John Hammond in the 1930s\, "Spirituals to Funk" features an integrated show that explores the connections between jazz\, blues and gospel.
X-ALT-DESC;FMTTYPE=text/html:&quot\;Spirituals to Funk&quot\; features Rock &amp\; Roll Hall of Fame Inductee Dr. John and 5-time Grammy Award Winners\, The Blind Boys of Alabama. Under Dr. John&rsquo\;s musical direction\, the world premiere of &quot\;Spirituals to Funk&quot\; represents the first-ever touring partnership between two icons of American music. Dr. John and the Blind Boys of Alabama&#39\;s performance will build on a legacy that started with Dr. John&rsquo\;s appearance on the Blind Boys&rsquo\; Grammy Award-winning CD &ldquo\;Down in New Orleans\,&rdquo\; and continues with the Blind Boys&rsquo\; appearance on Dr. John&rsquo\;s upcoming CD celebrating Louis Armstrong&rsquo\;s 100th birthday. Based on the legendary Carnegie Hall Spirituals to Swing concerts produced by John Hammond in the 1930s\, &quot\;Spirituals to Funk&quot\; features an integrated show that explores the connections between jazz\, blues and gospel.
LOCATION:Ferguson Center for the Arts
UID:e.832.1514
SEQUENCE:3
DTSTAMP:20260424T082752Z
URL:https://business.virginiapeninsulachamber.com/events/details/spirituals-to-funk-starring-dr-john-and-the-blind-boys-of-alabama-11-12-2012-1514
END:VEVENT

END:VCALENDAR
