BEGIN:VCALENDAR
VERSION:2.0
PRODID:-//ChamberMaster//Event Calendar 2.0//EN
METHOD:PUBLISH
X-PUBLISHED-TTL:P3D
REFRESH-INTERVAL:P3D
CALSCALE:GREGORIAN
BEGIN:VEVENT
DTSTART:20130407T000000Z
DTEND:20130407T013000Z
X-MICROSOFT-CDO-ALLDAYEVENT:FALSE
SUMMARY:Smokey Robinson
DESCRIPTION:With his eternally smooth and instantly recognizable falsetto alone   without the strings\, bass\, guitar or drums   legendary singer/songwriter/producer Smokey Robinson's honey-coated voice absolutely is the audio equivalent of comfort food   comfort food for the soul   with soul. In following with the aforementioned definition\, the Motown legend's forthcoming ROBSO Records CD\, Time Flies When You're Having Fun\, has certainly been "prepared in a traditional style\," while that oh-so-familiar\, highly identifiable crooning has an indisputable "nostalgic or sentimental appeal."
X-ALT-DESC;FMTTYPE=text/html:With his eternally smooth and instantly recognizable falsetto alone &ndash\; without the strings\, bass\, guitar or drums &ndash\; legendary singer/songwriter/producer Smokey Robinson&rsquo\;s honey-coated voice absolutely is the audio equivalent of comfort food &hellip\; comfort food for the soul &hellip\; with soul. In following with the aforementioned definition\, the Motown legend&rsquo\;s forthcoming ROBSO Records CD\, Time Flies When You&rsquo\;re Having Fun\, has certainly been &ldquo\;prepared in a traditional style\,&rdquo\; while that oh-so-familiar\, highly identifiable crooning has an indisputable &ldquo\;nostalgic or sentimental appeal.&rdquo\;
LOCATION:Ferguson Center for the Arts
UID:e.832.1536
SEQUENCE:3
DTSTAMP:20260422T123410Z
URL:https://business.virginiapeninsulachamber.com/events/details/smokey-robinson-04-06-2013-1536
END:VEVENT

END:VCALENDAR
