BEGIN:VCALENDAR
VERSION:2.0
PRODID:-//ChamberMaster//Event Calendar 2.0//EN
METHOD:PUBLISH
X-PUBLISHED-TTL:P3D
REFRESH-INTERVAL:P3D
CALSCALE:GREGORIAN
BEGIN:VEVENT
DTSTART:20121201T010000Z
DTEND:20121201T023000Z
X-MICROSOFT-CDO-ALLDAYEVENT:FALSE
SUMMARY:Shatner's World
DESCRIPTION:In SHATNER'S WORLD  a one-man force of nature delivers a larger than life performance complete with his laugh-out-loud humor\, signature storytelling and select musical selections in his inimitable style. Through anecdotes\, songs\, jokes and even some poignant moments\, you will experience William Shatner's phenomenal path from classically trained Shakespearean actor to cultural icon\, brilliantly creating the larger-than-life and most important character he has ever played\, William Shatner.
X-ALT-DESC;FMTTYPE=text/html:In SHATNER&#39\;S WORLD&hellip\; a one-man force of nature delivers a larger than life performance complete with his laugh-out-loud humor\, signature storytelling and select musical selections in his inimitable style. Through anecdotes\, songs\, jokes and even some poignant moments\, you will experience William Shatner&#39\;s phenomenal path from classically trained Shakespearean actor to cultural icon\, brilliantly creating the larger-than-life and most important character he has ever played\, William Shatner.
LOCATION:Ferguson Center for the Arts
UID:e.832.1518
SEQUENCE:3
DTSTAMP:20260422T210704Z
URL:https://business.virginiapeninsulachamber.com/events/details/shatner-s-world-11-30-2012-1518
END:VEVENT

END:VCALENDAR
