BEGIN:VCALENDAR
VERSION:2.0
PRODID:-//ChamberMaster//Event Calendar 2.0//EN
METHOD:PUBLISH
X-PUBLISHED-TTL:P3D
REFRESH-INTERVAL:P3D
CALSCALE:GREGORIAN
BEGIN:VEVENT
DTSTART:20110322T171500Z
DTEND:20110322T193000Z
X-MICROSOFT-CDO-ALLDAYEVENT:FALSE
SUMMARY:Selling to the Federal Government through GSA Schedules-2011
DESCRIPTION:Getting Started--Learn about the preliminary steps to take prior to responding to a Schedules solicitation\n\nResponding to a Solicitation--Learn about GSA's review and negotiation process\, and what preparation a vendor can complete to increase success
X-ALT-DESC;FMTTYPE=text/html:<br />\n<span style="font-size: 12px"><span style="font-family: arial\, helvetica\, sans-serif">Getting Started--Learn about the preliminary steps to take prior to responding to a Schedules solicitation</span><br />\n<span style="font-family: arial\, helvetica\, sans-serif">Responding to a Solicitation--Learn about GSA&#39\;s review and negotiation process\, and what preparation a vendor can complete to increase success</span></span>
LOCATION:Virginia Peninsula Chamber of Commerce 21 Enterprise Parkway Ste 100 Hampton\, VA 23666
UID:e.832.151
SEQUENCE:3
DTSTAMP:20260424T032411Z
URL:https://business.virginiapeninsulachamber.com/events/details/selling-to-the-federal-government-through-gsa-schedules-2011-03-22-2011-151
END:VEVENT

END:VCALENDAR
