BEGIN:VCALENDAR
VERSION:2.0
PRODID:-//ChamberMaster//Event Calendar 2.0//EN
METHOD:PUBLISH
X-PUBLISHED-TTL:P3D
REFRESH-INTERVAL:P3D
CALSCALE:GREGORIAN
BEGIN:VEVENT
DTSTART:20110907T170000Z
DTEND:20110907T190000Z
X-MICROSOFT-CDO-ALLDAYEVENT:FALSE
SUMMARY:SCORE Workshop "How to Start a Business"
DESCRIPTION:Faciltated by: Jack Marston\, SCORE Counselor\n\n\n\nJoin us at the Virginia Peninsula Chamber of  Commerce for a workshop on what is needed to start your own business.\n\nThis seminar will cover\n\n	\n		Research needed to start a business\n	\n		Different organizations that you will need to assist you in starting a business\n	\n		How to write a business plan
X-ALT-DESC;FMTTYPE=text/html:Faciltated by: Jack Marston\, SCORE Counselor<br />\n<br />\nJoin us at the <strong>Virginia Peninsula Chamber <em>of</em>&nbsp\; Commerce</strong> for a workshop on what is needed to start your own business.<br />\nThis seminar will cover\n<ul>\n	<li>\n		Research needed to start a business</li>\n	<li>\n		Different organizations that you will need to assist you in starting a business</li>\n	<li>\n		How to write a business plan</li>\n</ul>\n
LOCATION:Virginia Peninsula Chamber of Commerce 21 Enterprise Parkway Suite 100 Hampton\, VA 23666
UID:e.832.1249
SEQUENCE:3
DTSTAMP:20260423T184808Z
URL:https://business.virginiapeninsulachamber.com/events/details/score-workshop-how-to-start-a-business-09-07-2011-1249
END:VEVENT

END:VCALENDAR
