BEGIN:VCALENDAR
VERSION:2.0
PRODID:-//ChamberMaster//Event Calendar 2.0//EN
METHOD:PUBLISH
X-PUBLISHED-TTL:P3D
REFRESH-INTERVAL:P3D
CALSCALE:GREGORIAN
BEGIN:VEVENT
DTSTART:20130404T170000Z
DTEND:20130404T180000Z
X-MICROSOFT-CDO-ALLDAYEVENT:FALSE
SUMMARY:Saint Leo University Presents: An Afternoon with Tanya Biank
DESCRIPTION:Tanya Biank is the author of Army Wives.
X-ALT-DESC;FMTTYPE=text/html:Tanya Biank is the author of <em>Army Wives</em>. 
LOCATION:Jacob's Theater\, Fort Eustis
UID:e.832.1605
SEQUENCE:3
DTSTAMP:20260422T123819Z
URL:https://business.virginiapeninsulachamber.com/events/details/saint-leo-university-presents-an-afternoon-with-tanya-biank-04-04-2013-1605
END:VEVENT

END:VCALENDAR
