BEGIN:VCALENDAR
VERSION:2.0
PRODID:-//ChamberMaster//Event Calendar 2.0//EN
METHOD:PUBLISH
X-PUBLISHED-TTL:P3D
REFRESH-INTERVAL:P3D
CALSCALE:GREGORIAN
BEGIN:VEVENT
DTSTART:20130414T180000Z
DTEND:20130414T193000Z
X-MICROSOFT-CDO-ALLDAYEVENT:FALSE
SUMMARY:Russian National Ballet Theatre Presents Sleeping Beauty
DESCRIPTION:The Russian National Ballet Theatre was founded in Moscow during the transitional period of Perestroika in the late 1980s. Many of the great dancers and choreographers of the Soviet Union's ballet institutions began to exercise their new-found creative freedom by starting vibrant companies dedicated to the timeless tradition of classical Russian Ballet. Today\, the Russian National Ballet Theatre is its own institution\, with over 50 dancers of singular instruction and experience.
X-ALT-DESC;FMTTYPE=text/html:The Russian National Ballet Theatre was founded in Moscow during the transitional period of Perestroika in the late 1980s. Many of the great dancers and choreographers of the Soviet Union&rsquo\;s ballet institutions began to exercise their new-found creative freedom by starting vibrant companies dedicated to the timeless tradition of classical Russian Ballet. Today\, the Russian National Ballet Theatre is its own institution\, with over 50 dancers of singular instruction and experience.
LOCATION:Ferguson Center for the Arts
UID:e.832.1538
SEQUENCE:3
DTSTAMP:20260422T123831Z
URL:https://business.virginiapeninsulachamber.com/events/details/russian-national-ballet-theatre-presents-sleeping-beauty-04-14-2013-1538
END:VEVENT

END:VCALENDAR
