BEGIN:VCALENDAR
VERSION:2.0
PRODID:-//ChamberMaster//Event Calendar 2.0//EN
METHOD:PUBLISH
X-PUBLISHED-TTL:P3D
REFRESH-INTERVAL:P3D
CALSCALE:GREGORIAN
BEGIN:VEVENT
DTSTART;VALUE=DATE:20110825
DTEND;VALUE=DATE:20110826
TRANSP:TRANSPARENT
X-MICROSOFT-CDO-ALLDAYEVENT:TRUE
SUMMARY:Ribbon Cutting -Care Advantage
DESCRIPTION:Please join us for our Grand Re-Opening and Ribbon Cutting located at 11835 Canon Blvd.\, Suite B103\n\nNewport News\, VA 23606
X-ALT-DESC;FMTTYPE=text/html:Please join us for our Grand Re-Opening and Ribbon Cutting located at 11835 Canon Blvd.\, Suite B103<br />\nNewport News\, VA 23606
LOCATION:
UID:e.832.1247
SEQUENCE:3
DTSTAMP:20260423T195044Z
URL:https://business.virginiapeninsulachamber.com/events/details/ribbon-cutting-care-advantage-08-25-2011-1247
END:VEVENT

END:VCALENDAR
