BEGIN:VCALENDAR
VERSION:2.0
PRODID:-//ChamberMaster//Event Calendar 2.0//EN
METHOD:PUBLISH
X-PUBLISHED-TTL:P3D
REFRESH-INTERVAL:P3D
CALSCALE:GREGORIAN
BEGIN:VEVENT
DTSTART:20130413T000000Z
DTEND:20130413T013000Z
X-MICROSOFT-CDO-ALLDAYEVENT:FALSE
SUMMARY:Ravi Coltrane Quartet
DESCRIPTION:Ravi Coltrane is at the forefront of the restless few who are carving up new paths in jazz. Down Beat called him\, "A modernist who has absorbed a wealth of jazz [and] those influences are couched so well\, resulting in a unique sound\, best described as 'elusive beauty.'" Passionately committed to the value of "working bands\," Ravi pulls together like-minded individuals who can contribute to the group\, moving their repertoire forward with original compositions and fresh takes on jazz standards. Their shared creativity energizes both live performances and recordings\, earning a Grammy Nomination for IN FLUX and critical acclaim for BLENDING TIMES (2009).\n\nBLENDING TIMES is both an emotive and technically mature expression from a burgeoning master of the saxophone. "Somehow there is no disputing heredity\," noted jazzpolice.com\, "yet there also is no doubt that this Coltrane has taken his own Giant Steps. Genius here extends across generations\, the son's path informed\, not confined\, by the name Coltrane."\n\n\n\n"An explosion of rhythmic and melodic sequences that float through the air with grace."\n\n JazzWeekly\n\n\n\n"Blending Times is Ravi's most emotionally charged\, fully realized statement to date."\n\n JazzTimes
X-ALT-DESC;FMTTYPE=text/html:Ravi Coltrane is at the forefront of the restless few who are carving up new paths in jazz. Down Beat called him\, &ldquo\;A modernist who has absorbed a wealth of jazz [and] those influences are couched so well\, resulting in a unique sound\, best described as &lsquo\;elusive beauty.&rsquo\;&rdquo\; Passionately committed to the value of &ldquo\;working bands\,&rdquo\; Ravi pulls together like-minded individuals who can contribute to the group\, moving their repertoire forward with original compositions and fresh takes on jazz standards. Their shared creativity energizes both live performances and recordings\, earning a Grammy Nomination for IN FLUX and critical acclaim for BLENDING TIMES (2009).<br />\nBLENDING TIMES is both an emotive and technically mature expression from a burgeoning master of the saxophone. &ldquo\;Somehow there is no disputing heredity\,&rdquo\; noted jazzpolice.com\, &ldquo\;yet there also is no doubt that this Coltrane has taken his own Giant Steps. Genius here extends across generations\, the son&rsquo\;s path informed\, not confined\, by the name Coltrane.&rdquo\;<br />\n<br />\n&ldquo\;An explosion of rhythmic and melodic sequences that float through the air with grace.&rdquo\;<br />\n&mdash\;JazzWeekly<br />\n<br />\n&ldquo\;Blending Times is Ravi&rsquo\;s most emotionally charged\, fully realized statement to date.&rdquo\;<br />\n&mdash\;JazzTimes
LOCATION:Ferguson Center for the Arts\, Music and Theatre Hall
UID:e.832.1537
SEQUENCE:3
DTSTAMP:20260422T123411Z
URL:https://business.virginiapeninsulachamber.com/events/details/ravi-coltrane-quartet-04-12-2013-1537
END:VEVENT

END:VCALENDAR
