BEGIN:VCALENDAR
VERSION:2.0
PRODID:-//ChamberMaster//Event Calendar 2.0//EN
METHOD:PUBLISH
X-PUBLISHED-TTL:P3D
REFRESH-INTERVAL:P3D
CALSCALE:GREGORIAN
BEGIN:VEVENT
DTSTART:20130127T010000Z
DTEND:20130127T023000Z
X-MICROSOFT-CDO-ALLDAYEVENT:FALSE
SUMMARY:Project Trio
DESCRIPTION:Project Trio is a passionate\, high-energy instrumental ensemble comprised of three virtuosic composer/performers from Brooklyn\, N.Y.\, but they aren't your typical classical ensemble. Despite a collective resume that includes stints with the Houston Symphony and the Cleveland Orchestra\, Project Trio has a decidedly different sound. The group takes a classical base and seamlessly incorporates bits of rock\, jazz\, hip-hop and Americana into it   creating a modern instrumental fusion of genres. Members include flutist Greg Pattillo\; cellist Eric Stephenson\, and double bassist Peter Seymour. Their landmark videos have been viewed over 60 million times and with over 68\,000 subscribers on YouTube alone\, Project Trio is widely recognized as the most viewed classical-crossover ensemble in the U.S.
X-ALT-DESC;FMTTYPE=text/html:Project Trio is a passionate\, high-energy instrumental ensemble comprised of three virtuosic composer/performers from Brooklyn\, N.Y.\, but they aren&rsquo\;t your typical classical ensemble. Despite a collective resume that includes stints with the Houston Symphony and the Cleveland Orchestra\, Project Trio has a decidedly different sound. The group takes a classical base and seamlessly incorporates bits of rock\, jazz\, hip-hop and Americana into it &ndash\; creating a modern instrumental fusion of genres. Members include flutist Greg Pattillo\; cellist Eric Stephenson\, and double bassist Peter Seymour. Their landmark videos have been viewed over 60 million times and with over 68\,000 subscribers on YouTube alone\, Project Trio is widely recognized as the most viewed classical-crossover ensemble in the U.S.<br />\n
LOCATION:Ferguson Center for the Arts\, Music and Theatre Hall
UID:e.832.1527
SEQUENCE:3
DTSTAMP:20260422T174436Z
URL:https://business.virginiapeninsulachamber.com/events/details/project-trio-01-26-2013-1527
END:VEVENT

END:VCALENDAR
