BEGIN:VCALENDAR
VERSION:2.0
PRODID:-//ChamberMaster//Event Calendar 2.0//EN
METHOD:PUBLISH
X-PUBLISHED-TTL:P3D
REFRESH-INTERVAL:P3D
CALSCALE:GREGORIAN
BEGIN:VEVENT
DTSTART:20130806T124500Z
DTEND:20130806T163000Z
X-MICROSOFT-CDO-ALLDAYEVENT:FALSE
SUMMARY:Post-Traumatic Stress Disorder (PTSD) in the Workplace
DESCRIPTION:A free\, half-day conference that will provide human resource professionals with tools for hiring and supervising former military members exposed to combat-related trauma. Also addresses misconceptions about these prospective employees.
X-ALT-DESC;FMTTYPE=text/html:A free\, half-day conference that will provide human resource professionals with tools for hiring and supervising former military members exposed to combat-related trauma. Also addresses misconceptions about these prospective employees.
LOCATION:Virginia Beach Public Library\, 4100 Virginia Beach Blvd\, Virginia Beach\, VA
UID:e.832.1677
SEQUENCE:3
DTSTAMP:20260422T053526Z
URL:https://business.virginiapeninsulachamber.com/events/details/post-traumatic-stress-disorder-ptsd-in-the-workplace-08-06-2013-1677
END:VEVENT

END:VCALENDAR
