BEGIN:VCALENDAR
VERSION:2.0
PRODID:-//ChamberMaster//Event Calendar 2.0//EN
METHOD:PUBLISH
X-PUBLISHED-TTL:P3D
REFRESH-INTERVAL:P3D
CALSCALE:GREGORIAN
BEGIN:VEVENT
DTSTART:20110901T160000Z
DTEND:20110901T170000Z
X-MICROSOFT-CDO-ALLDAYEVENT:FALSE
SUMMARY:Pink Bag Luncheon-9/1/11
DESCRIPTION:The  Outstanding Women Exchange of the Virginia Peninsula Chamber of Commerce's Women in Business Council  invites you to attend their Pink Bag Luncheon.\n\n\n\nThis months speaker is Kelli Paul\, owner of Boot Camp Fitness\, LLC.  Join us to hear pointers on how to incorporate fitness into your busy lifestyle.\n\n\n\nDon't hestistate to sign up today\, seating is limited.  Once you have signed up on our website click on the link above and you will be able to purchase your lunch from Panera's and it will be waiting for you at the Chamber.
X-ALT-DESC;FMTTYPE=text/html:<p>The&nbsp\; Outstanding Women Exchange of the Virginia Peninsula Chamber of Commerce&#39\;s Women in Business Council&nbsp\; invites you to attend their Pink Bag Luncheon.</p>\n\n<p><br />\nThis months speaker is Kelli Paul\, owner of Boot Camp Fitness\, LLC.&nbsp\; Join us to hear pointers on how to incorporate fitness into your busy lifestyle.<br />\n<br />\nDon&#39\;t hestistate to sign up today\,<em><u><strong> seating is limited</strong></u></em>.&nbsp\; Once you have signed up on our website click on the link above and you will be able to purchase your lunch from Panera&#39\;s and it will be waiting for you at the Chamber.&nbsp\;</p>\n\n<p>&nbsp\;&nbsp\;&nbsp\;&nbsp\;&nbsp\;&nbsp\;&nbsp\;&nbsp\;&nbsp\;&nbsp\;&nbsp\;&nbsp\;&nbsp\;&nbsp\;&nbsp\;&nbsp\;&nbsp\;&nbsp\;&nbsp\;&nbsp\;&nbsp\;&nbsp\;&nbsp\;&nbsp\;&nbsp\;&nbsp\;&nbsp\;&nbsp\;&nbsp\;&nbsp\;&nbsp\;&nbsp\;&nbsp\;&nbsp\;&nbsp\;&nbsp\;&nbsp\;&nbsp\;&nbsp\;&nbsp\;&nbsp\;&nbsp\;&nbsp\;&nbsp\;&nbsp\;&nbsp\;&nbsp\;&nbsp\;&nbsp\;<span _fck_bookmark="1" style="display: none">&nbsp\;</span><span _fck_bookmark="1" style="display: none">&nbsp\;</span><span _fck_bookmark="1" style="display: none">&nbsp\;</span><span _fck_bookmark="1" style="display: none">&nbsp\;</span><span _fck_bookmark="1" style="display: none">&nbsp\;</span><span _fck_bookmark="1" style="display: none"> </span><br />\n&nbsp\;&nbsp\;&nbsp\;&nbsp\;&nbsp\;&nbsp\;&nbsp\;&nbsp\;&nbsp\;&nbsp\;&nbsp\;&nbsp\;&nbsp\;&nbsp\;&nbsp\;&nbsp\;&nbsp\;&nbsp\;&nbsp\;&nbsp\;&nbsp\;&nbsp\;</p>\n\n<p style="text-align: center">&nbsp\;</p>\n\n<p>&nbsp\;&nbsp\;&nbsp\;&nbsp\;&nbsp\;&nbsp\;&nbsp\;&nbsp\;&nbsp\;&nbsp\;&nbsp\;<span _fck_bookmark="1" style="display: none">&nbsp\;</span><span _fck_bookmark="1" style="display: none">&nbsp\;</span><span _fck_bookmark="1" style="display: none">&nbsp\;</span><span _fck_bookmark="1" style="display: none">&nbsp\;</span></p>\n
LOCATION:Virginia Peninsula Chamber of Commerce Lakefront Plaza 21 Enterprise Parkway\, Suite 100 Hampton\, VA 23666
UID:e.832.1238
SEQUENCE:3
DTSTAMP:20260423T195202Z
URL:https://business.virginiapeninsulachamber.com/events/details/pink-bag-luncheon-9-1-11-09-01-2011-1238
END:VEVENT

END:VCALENDAR
