BEGIN:VCALENDAR
VERSION:2.0
PRODID:-//ChamberMaster//Event Calendar 2.0//EN
METHOD:PUBLISH
X-PUBLISHED-TTL:P3D
REFRESH-INTERVAL:P3D
CALSCALE:GREGORIAN
BEGIN:VEVENT
DTSTART:20120412T160000Z
DTEND:20120412T170000Z
X-MICROSOFT-CDO-ALLDAYEVENT:FALSE
SUMMARY:Pink Bag Luncheon-4/12/12
DESCRIPTION:The  Outstanding Women Exchange of the Virginia Peninsula Chamber of Commerce's Women in Business Council invites you to attend their Pink Bag Luncheon.  \n\n\n\nThis PBL will feature:  SUZANNE DOUGLAS\, EXECUTIVE STYLE COACH/PERSONAL BRANDING EXPERT \n\n\n\nStyle Capital is the Executive Image Consultancy that deals uniquely with corporate and executive image needs. We know how appearance\, behavior and communication can impact your bottom line\, and we've seen companies who manage these issues gain a crucial edge over the competition.\n\nHere are just a few of the areas where we can make a difference to your organization:\n\n \n\n\n	Conducting group seminars on the importance of personal image\n	Selecting appropriate attire for media-facing executives\n	Polishing "rough diamonds": potential superstars who may need additional training on appearance\, body language\, or business entertaining\n\n\n \n\nThe luncheon starts at noon with 15 minutes of business networking.  Please take this opportunity to make new business connections and to distribute your business cards.\n\n \n\n  To place an order with Jason's Deli:\n\n\n	Go to Jason's Deli website: www.jasonsdeli.comand select your lunch choice\n	Call Hampton Store: 825-1501\n	Place your order with Mary or Karen\n	Identify that this is for the Pink Bag Lunch\n	 Deadline for placing orders is 24 hours before the event
X-ALT-DESC;FMTTYPE=text/html:<p><br />\nThe&nbsp\; <strong><span style="color: rgb(255\,51\,153)">Outstanding Women Exchange</span></strong> of the Virginia Peninsula Chamber of Commerce&#39\;s Women in Business Council invites you to attend their <strong><span style="color: #ff3399">Pink Bag Luncheon.&nbsp\;&nbsp\;</span><br />\n<br />\nThis PBL will feature:<font color="#ff3399">&nbsp\; </font></strong><span style="color: #ff0099"><strong><strong><span style="font-size: 8.5pt"><span style="font-family: arial\, sans-serif">SUZANNE DOUGLAS\, </span></span><span style="font-size: 8.5pt"><span style="font-family: arial\, sans-serif">EXECUTIVE STYLE COACH/PERSONAL BRANDING EXPERT&nbsp\;</span></span></strong></strong></span><br />\n<br />\n<em><span style="font-size: 9pt"><span style="color: black"><span style="font-family: arial\, sans-serif">Style Capital is the Executive Image Consultancy that deals uniquely with corporate and executive image needs. We know how appearance\, behavior and communication can impact your bottom line\, and we&rsquo\;ve seen companies who manage these issues gain a crucial edge over the competition.</span></span></span></em><br />\n<span style="font-size: 9pt"><span style="color: #3f3f3f"><span style="font-family: arial\, sans-serif">Here are just a few of the areas where we can make a difference to your organization:</span></span></span><br />\n&nbsp\;</p>\n\n<ul>\n	<li><span style="font-size: 9pt"><span style="color: #3f3f3f"><span style="font-family: arial\, sans-serif">Conducting group seminars on the importance of personal image</span></span></span></li>\n	<li><span style="font-size: 9pt"><span style="color: #3f3f3f"><span style="font-family: arial\, sans-serif">Selecting appropriate attire for media-facing executives</span></span></span></li>\n	<li><span style="font-size: 9pt"><span style="color: #3f3f3f"><span style="font-family: arial\, sans-serif">Polishing &ldquo\;rough diamonds&rdquo\;: potential superstars who may need additional training on appearance\, body language\, or business entertaining</span></span></span></li>\n</ul>\n\n<p>&nbsp\;<br />\nThe luncheon starts at noon with <u><strong><span style="color: #ff3399"><em>15 minutes </em></span></strong></u>of business networking.&nbsp\; Please take this opportunity to&nbsp\;make new business connections and to distribute your business cards.<br />\n&nbsp\;</p>\n\n<p>&nbsp\;&nbsp\;<span style="font-size: 12px">To place an order with Jason&rsquo\;s Deli:</span></p>\n\n<ul>\n	<li><span style="font-size: 12px">Go to Jason&rsquo\;s Deli website: <a href="http://www.jasonsdeli.com/"><span style="color: #0000ff">www.jasonsdeli.com</span></a>and select your lunch choice</span></li>\n	<li><span style="font-size: 12px">Call Hampton Store: 825-1501</span></li>\n	<li><span style="font-size: 12px">Place your order with Mary or Karen</span></li>\n	<li><span style="font-size: 12px">Identify that this is for the <span style="color: #ff0066">Pink Bag Lunch</span></span></li>\n	<li><span style="font-size: 12px"><span _fck_bookmark="1" style="display: none">&nbsp\;</span>Deadline for placing orders is 24 hours before the event </span></li>\n</ul>\n\n<p>&nbsp\;</p>\n\n<p>&nbsp\;&nbsp\;&nbsp\;&nbsp\;&nbsp\;&nbsp\;&nbsp\;&nbsp\;&nbsp\;&nbsp\;&nbsp\;&nbsp\;&nbsp\;&nbsp\;&nbsp\;&nbsp\;&nbsp\;&nbsp\;&nbsp\;&nbsp\;&nbsp\;&nbsp\;&nbsp\;&nbsp\;&nbsp\;&nbsp\;&nbsp\;&nbsp\;&nbsp\;&nbsp\;&nbsp\;&nbsp\;&nbsp\;&nbsp\;&nbsp\;&nbsp\;&nbsp\;&nbsp\;&nbsp\;&nbsp\;&nbsp\;&nbsp\;&nbsp\;&nbsp\;&nbsp\;&nbsp\;&nbsp\;&nbsp\;&nbsp\;&nbsp\;&nbsp\;&nbsp\;&nbsp\;&nbsp\;&nbsp\;&nbsp\;&nbsp\;<span _fck_bookmark="1" style="display: none">&nbsp\;</span><span _fck_bookmark="1" style="display: none">&nbsp\;</span><span _fck_bookmark="1" style="display: none">&nbsp\;</span><span _fck_bookmark="1" style="display: none">&nbsp\;</span><span _fck_bookmark="1" style="display: none">&nbsp\;</span><span _fck_bookmark="1" style="display: none">&nbsp\;</span></p>\n\n<p>&nbsp\;&nbsp\;&nbsp\;&nbsp\;&nbsp\;&nbsp\;&nbsp\;&nbsp\;&nbsp\;&nbsp\;&nbsp\;&nbsp\;&nbsp\;&nbsp\;&nbsp\;&nbsp\;&nbsp\;&nbsp\;&nbsp\;&nbsp\;&nbsp\;&nbsp\;</p>\n\n<p>&nbsp\;</p>\n\n<p>&nbsp\;&nbsp\;&nbsp\;&nbsp\;&nbsp\;&nbsp\;&nbsp\;&nbsp\;&nbsp\;&nbsp\;&nbsp\;<span _fck_bookmark="1" style="display: none">&nbsp\;</span><span _fck_bookmark="1" style="display: none">&nbsp\;</span><span _fck_bookmark="1" style="display: none">&nbsp\;</span><span _fck_bookmark="1" style="display: none">&nbsp\;</span></p>\n
LOCATION:Virginia Peninsula Chamber of Commerce Lakefront Plaza 21 Enterprise Parkway\, Suite 100 Hampton\, VA 23666
UID:e.832.1276
SEQUENCE:3
DTSTAMP:20260423T082325Z
URL:https://business.virginiapeninsulachamber.com/events/details/pink-bag-luncheon-4-12-12-04-12-2012-1276
END:VEVENT

END:VCALENDAR
