BEGIN:VCALENDAR
VERSION:2.0
PRODID:-//ChamberMaster//Event Calendar 2.0//EN
METHOD:PUBLISH
X-PUBLISHED-TTL:P3D
REFRESH-INTERVAL:P3D
CALSCALE:GREGORIAN
BEGIN:VEVENT
DTSTART:20130413T160000Z
DTEND:20130413T210000Z
X-MICROSOFT-CDO-ALLDAYEVENT:FALSE
SUMMARY:Peninsula Music Teacher's Association Music Marathon
DESCRIPTION:The Peninsula Music Teacher's Association is holding their Music Marathon at Patrick Henry Mall on April 13 and 14\, 2013. Students and teachers from Newport News Public Schools music programs will provide the musical entertainment. Event takes place on Saturday\, April 13 from noon-5 p.m. and on Sunday\, April 14 from 1 p.m.-5:30p.m.
X-ALT-DESC;FMTTYPE=text/html:The Peninsula Music Teacher&#39\;s Association is holding their Music Marathon at Patrick Henry Mall on April 13 and 14\, 2013. Students and teachers from Newport News Public Schools music programs will provide the musical entertainment. Event takes place on Saturday\, April 13 from noon-5 p.m. and on Sunday\, April 14 from 1 p.m.-5:30p.m. 
LOCATION:Patrick Henry Mall 12300 Jefferson Avenue Newport News\, VA 23602
UID:e.832.1617
SEQUENCE:3
DTSTAMP:20260422T124056Z
URL:https://business.virginiapeninsulachamber.com/events/details/peninsula-music-teacher-s-association-music-marathon-04-13-2013-1617
END:VEVENT

END:VCALENDAR
