BEGIN:VCALENDAR
VERSION:2.0
PRODID:-//ChamberMaster//Event Calendar 2.0//EN
METHOD:PUBLISH
X-PUBLISHED-TTL:P3D
REFRESH-INTERVAL:P3D
CALSCALE:GREGORIAN
BEGIN:VEVENT
DTSTART:20140522T230000Z
DTEND:20140523T013000Z
X-MICROSOFT-CDO-ALLDAYEVENT:FALSE
SUMMARY:Office of Human Affairs 48th Annual Awards Banquet
DESCRIPTION:Office of Human Affairs' Annual Benefit. Banquet recognizing corporate\, non-profit\, faith-based and individual recipients for their outstanding contributions to human service programs on the Peninsula.
X-ALT-DESC;FMTTYPE=text/html:Office of Human Affairs&#39\; Annual Benefit. Banquet recognizing corporate\, non-profit\, faith-based and individual recipients for their outstanding contributions to human service programs on the Peninsula.
LOCATION:Hampton Convention Center 1610 Coliseum Center Hampton\, VA 23666
UID:e.832.1965
SEQUENCE:3
DTSTAMP:20260421T170059Z
URL:https://business.virginiapeninsulachamber.com/events/details/office-of-human-affairs-48th-annual-awards-banquet-05-22-2014-1965
END:VEVENT

END:VCALENDAR
