BEGIN:VCALENDAR
VERSION:2.0
PRODID:-//ChamberMaster//Event Calendar 2.0//EN
METHOD:PUBLISH
X-PUBLISHED-TTL:P3D
REFRESH-INTERVAL:P3D
CALSCALE:GREGORIAN
BEGIN:VEVENT
DTSTART:20121020T000000Z
DTEND:20121021T013000Z
X-MICROSOFT-CDO-ALLDAYEVENT:FALSE
SUMMARY:Nunset Boulevard: The Nunsense Hollywood Bowl Show! Starring Cindy Williams
DESCRIPTION:"HILARIOUS\,WACKY."  ABC News\n\n"The "nuns" have done it again ...\n\nSinfully funny laughs."  NBC News\n\n\n\nThe Little Sisters of Hoboken are off on their newest Nunsense adventure\, this time heading to Tinsel town. They are thrilled at the prospect of performing at the Hollywood Bowl until they discover they are booked into the Hollywood Bowl-A-Rama\, not the famous "Bowl!" But when they hear that a big-time producer is auditioning people for a new movie musical about the life of Dolores Hart\, the famous movie star who became a nun\, their spirits soar! Could this be their big break? Featuring all new songs\, audience participation\, and heavenly humor\, ABC television calls this show\, "Hilarious\, Wacky\, and Unpredictable!" It would be a sin to miss Cindy Williams\, the lovable star of Laverne & Shirley\, as Mother Superior along with the original New York cast in this zany new musical comedy. The New York Times says\, "The Nunsense shows have raised the human spirit!"
X-ALT-DESC;FMTTYPE=text/html:&quot\;HILARIOUS\,WACKY.&quot\; &mdash\;ABC News<br />\n&quot\;The &quot\;nuns&quot\; have done it again ...<br />\nSinfully funny laughs.&quot\; &mdash\;NBC News<br />\n<br />\nThe Little Sisters of Hoboken are off on their newest Nunsense adventure\, this time heading to Tinsel town. They are thrilled at the prospect of performing at the Hollywood Bowl until they discover they are booked into the Hollywood Bowl-A-Rama\, not the famous &quot\;Bowl!&quot\; But when they hear that a big-time producer is auditioning people for a new movie musical about the life of Dolores Hart\, the famous movie star who became a nun\, their spirits soar! Could this be their big break? Featuring all new songs\, audience participation\, and heavenly humor\, ABC television calls this show\, &quot\;Hilarious\, Wacky\, and Unpredictable!&quot\; It would be a sin to miss Cindy Williams\, the lovable star of Laverne &amp\; Shirley\, as Mother Superior along with the original New York cast in this zany new musical comedy. The New York Times says\, &quot\;The Nunsense shows have raised the human spirit!&quot\;
LOCATION:Ferguson Center for the Arts
UID:e.832.1508
SEQUENCE:3
DTSTAMP:20260422T223940Z
URL:https://business.virginiapeninsulachamber.com/events/details/nunset-boulevard-the-nunsense-hollywood-bowl-show-starring-cindy-williams-10-19-2012-1508
END:VEVENT

END:VCALENDAR
