BEGIN:VCALENDAR
VERSION:2.0
PRODID:-//ChamberMaster//Event Calendar 2.0//EN
METHOD:PUBLISH
X-PUBLISHED-TTL:P3D
REFRESH-INTERVAL:P3D
CALSCALE:GREGORIAN
BEGIN:VEVENT
DTSTART:20140514T180000Z
DTEND:20140514T210000Z
X-MICROSOFT-CDO-ALLDAYEVENT:FALSE
SUMMARY:Newport News Job Fair
DESCRIPTION:More than 20 employers will be on hand to speak with job seekers. This event is free and open to the public.
X-ALT-DESC;FMTTYPE=text/html:More than 20 employers will be on hand to speak with job seekers. This event is free and open to the public.
LOCATION:836 J. Clyde Morris Blvd. Newport News\, Va. 23601
UID:e.832.2021
SEQUENCE:3
DTSTAMP:20260421T153053Z
URL:https://business.virginiapeninsulachamber.com/events/details/newport-news-job-fair-05-14-2014-2021
END:VEVENT

END:VCALENDAR
