BEGIN:VCALENDAR
VERSION:2.0
PRODID:-//ChamberMaster//Event Calendar 2.0//EN
METHOD:PUBLISH
X-PUBLISHED-TTL:P3D
REFRESH-INTERVAL:P3D
CALSCALE:GREGORIAN
BEGIN:VEVENT
DTSTART:20140325T140000Z
DTEND:20140325T180000Z
X-MICROSOFT-CDO-ALLDAYEVENT:FALSE
SUMMARY:NCOA Career EXPO
DESCRIPTION:Want to thank them for their service? Hire them!   The Non Commissioned Officers Association of the United States of America is hosting a Career Expo on March 25th from 10:00 AM to 2:00 PM at the Omni Newport News Hotel\, 1000 Omni Boulevard\, Newport News\, VA 23606. If you are a veteran\, currently separating from the military\, or a military spouse this event features both national and local employers and education opportunities.  If your company is interested in hiring heroes with proven leadership\, talent and dedication\, please sign up for a booth by contacting the NCOA at 210-837-5200.
X-ALT-DESC;FMTTYPE=text/html:Want to thank them for their service? Hire them! &nbsp\; The Non Commissioned Officers Association of the United States of America is hosting a Career Expo on March 25th from 10:00 AM to 2:00 PM at the Omni Newport News Hotel\, 1000 Omni Boulevard\, Newport News\, VA 23606. If you are a veteran\, currently separating from the military\, or a military spouse this event features both national and local employers and education opportunities. &nbsp\;If your company is interested in hiring heroes with proven leadership\, talent and dedication\, please sign up for a booth by contacting the NCOA at 210-837-5200. &nbsp\;
LOCATION:Omni Newport News Hotel\, 1000 Omni Boulevard\, Newport News\, VA 23606.
UID:e.832.1963
SEQUENCE:3
DTSTAMP:20260421T183034Z
URL:https://business.virginiapeninsulachamber.com/events/details/ncoa-career-expo-03-25-2014-1963
END:VEVENT

END:VCALENDAR
