BEGIN:VCALENDAR
VERSION:2.0
PRODID:-//ChamberMaster//Event Calendar 2.0//EN
METHOD:PUBLISH
X-PUBLISHED-TTL:P3D
REFRESH-INTERVAL:P3D
CALSCALE:GREGORIAN
BEGIN:VEVENT
DTSTART:20121030T233000Z
DTEND:20121031T010000Z
X-MICROSOFT-CDO-ALLDAYEVENT:FALSE
SUMMARY:National Symphony Orchestra of Cuba
DESCRIPTION:Since its inception in 1960\, the Havana Symphony has been instrumental in developing and introducing Cuban and Latin American music to the international classical music community\, in addition to covering a vast symphonic and chamber repertoire ranging from baroque to contemporary music. Piano soloist Ignacio "Nachito" Herrera\, widely recognized as a young genius\, stunned Cuban audiences at the age of 12\, performing "Rachmaninoff's Concerto No. 2" with the Havana Symphony Orchestra. Program selections include Gershwin's Cuban Overture and Rhapsody in Blue\, as well as Beethoven's Symphony No. 5\, among others.\n\n\n\nGershwin:\n\nCuban Overture\n\nRhapsody in Blue\n\n\n\nLecuona:\n\nLa Comparsa\n\n\n\nBeethoven:\n\nSymphony #5
X-ALT-DESC;FMTTYPE=text/html:Since its inception in 1960\, the Havana Symphony has been instrumental in developing and introducing Cuban and Latin American music to the international classical music community\, in addition to covering a vast symphonic and chamber repertoire ranging from baroque to contemporary music. Piano soloist Ignacio &quot\;Nachito&quot\; Herrera\, widely recognized as a young genius\, stunned Cuban audiences at the age of 12\, performing &quot\;Rachmaninoff&#39\;s Concerto No. 2&quot\; with the Havana Symphony Orchestra. Program selections include Gershwin&rsquo\;s Cuban Overture and Rhapsody in Blue\, as well as Beethoven&rsquo\;s Symphony No. 5\, among others.<br />\n<br />\nGershwin:<br />\nCuban Overture<br />\nRhapsody in Blue<br />\n<br />\nLecuona:<br />\nLa Comparsa<br />\n<br />\nBeethoven:<br />\nSymphony #5 
LOCATION:Ferguson Center for the Arts
UID:e.832.1510
SEQUENCE:3
DTSTAMP:20260422T223837Z
URL:https://business.virginiapeninsulachamber.com/events/details/national-symphony-orchestra-of-cuba-10-30-2012-1510
END:VEVENT

END:VCALENDAR
