BEGIN:VCALENDAR
VERSION:2.0
PRODID:-//ChamberMaster//Event Calendar 2.0//EN
METHOD:PUBLISH
X-PUBLISHED-TTL:P3D
REFRESH-INTERVAL:P3D
CALSCALE:GREGORIAN
BEGIN:VEVENT
DTSTART:20121112T000000Z
DTEND:20121112T013000Z
X-MICROSOFT-CDO-ALLDAYEVENT:FALSE
SUMMARY:National Circus of the People's Republic of China
DESCRIPTION:Direct from Beijing comes the National Circus of the People's Republic of China\, performing "Cirque Chinois." Founded in 1953\, the National Circus is one of the longest running and most distinguished circus troupes in China. They are especially acclaimed in China because of the unique acts in their program such as Great Teeterboard\, Grand Flying Trapeze\, Group Contortion\, Straw Hats Juggling\, Girls' Balance With Bowls and many other outstanding acts. The Company has won over 20 Gold and Silver medals and various other awards at international circus festivals including the Monte Carlo International Circus Festival\, Cirque de Demain\, and China National Acrobatic Competition. Great fun for the kids\, great fun for the whole family!
X-ALT-DESC;FMTTYPE=text/html:Direct from Beijing comes the National Circus of the People&rsquo\;s Republic of China\, performing &quot\;Cirque Chinois.&quot\; Founded in 1953\, the National Circus is one of the longest running and most distinguished circus troupes in China. They are especially acclaimed in China because of the unique acts in their program such as Great Teeterboard\, Grand Flying Trapeze\, Group Contortion\, Straw Hats Juggling\, Girls&rsquo\; Balance With Bowls and many other outstanding acts. The Company has won over 20 Gold and Silver medals and various other awards at international circus festivals including the Monte Carlo International Circus Festival\, Cirque de Demain\, and China National Acrobatic Competition. Great fun for the kids\, great fun for the whole family!<br />\n
LOCATION:Ferguson Center for the Arts
UID:e.832.1513
SEQUENCE:3
DTSTAMP:20260424T082753Z
URL:https://business.virginiapeninsulachamber.com/events/details/national-circus-of-the-people-s-republic-of-china-11-11-2012-1513
END:VEVENT

END:VCALENDAR
