BEGIN:VCALENDAR
VERSION:2.0
PRODID:-//ChamberMaster//Event Calendar 2.0//EN
METHOD:PUBLISH
X-PUBLISHED-TTL:P3D
REFRESH-INTERVAL:P3D
CALSCALE:GREGORIAN
BEGIN:VEVENT
DTSTART:20130128T000000Z
DTEND:20130128T000000Z
X-MICROSOFT-CDO-ALLDAYEVENT:FALSE
SUMMARY:Monterey Jazz Festival On Tour: 55th Anniversary Celebration
DESCRIPTION:The Monterey Jazz Festival\, the longest continuously-running jazz festival in the world\, has presented nearly every major jazz star from Billie Holiday and Louis Armstrong to Esperanza Spalding and Trombone Shorty since it was founded in 1958. World-renowned for its artistic excellence\, sophisticated informality\, and longstanding mission to create and support year-round jazz education and performance programs in local\, regional\, national\, and international venues\, the Monterey Jazz Festival on Tour 55th Anniversary Celebration continues this commitment in 2013 with its third North American Tour. Featuring leading critically-acclaimed\, Grammy-winning jazz artists\, the All-Star band consists of vocalist Dee Dee Bridgewater\, bassist and musical director Christian McBride\, saxophonist Chris Potter\, trumpeter Ambrose Akinmusire\, pianist Benny Green\, and drummer Lewis Nash. Embracing the past\, present\, and future of jazz\, the Monterey Jazz Festival on Tour 55th Anniversary Celebration will perform an assortment of classic jazz repertoire and original compositions by band members.
X-ALT-DESC;FMTTYPE=text/html:The Monterey Jazz Festival\, the longest continuously-running jazz festival in the world\, has presented nearly every major jazz star&mdash\;from Billie Holiday and Louis Armstrong to Esperanza Spalding and Trombone Shorty&mdash\;since it was founded in 1958. World-renowned for its artistic excellence\, sophisticated informality\, and longstanding mission to create and support year-round jazz education and performance programs in local\, regional\, national\, and international venues\, the Monterey Jazz Festival on Tour 55th Anniversary Celebration continues this commitment in 2013 with its third North American Tour. Featuring leading critically-acclaimed\, Grammy-winning jazz artists\, the All-Star band consists of vocalist Dee Dee Bridgewater\, bassist and musical director Christian McBride\, saxophonist Chris Potter\, trumpeter Ambrose Akinmusire\, pianist Benny Green\, and drummer Lewis Nash. Embracing the past\, present\, and future of jazz\, the Monterey Jazz Festival on Tour 55th Anniversary Celebration will perform an assortment of classic jazz repertoire and original compositions by band members.
LOCATION:Ferguson Center for the Arts
UID:e.832.1528
SEQUENCE:3
DTSTAMP:20260422T175035Z
URL:https://business.virginiapeninsulachamber.com/events/details/monterey-jazz-festival-on-tour-55th-anniversary-celebration-01-27-2013-1528
END:VEVENT

END:VCALENDAR
