BEGIN:VCALENDAR
VERSION:2.0
PRODID:-//ChamberMaster//Event Calendar 2.0//EN
METHOD:PUBLISH
X-PUBLISHED-TTL:P3D
REFRESH-INTERVAL:P3D
CALSCALE:GREGORIAN
BEGIN:VEVENT
DTSTART:20121203T003000Z
DTEND:20121203T020000Z
X-MICROSOFT-CDO-ALLDAYEVENT:FALSE
SUMMARY:Mannheim Steamroller Christmas
DESCRIPTION:Experience the Magic! Mannheim Steamroller Christmas by Chip Davis has been America's favorite holiday celebration for over 25 years. Grammy Award winner Chip Davis has created a show that features the beloved Christmas music of Mannheim Steamroller along with dazzling multimedia effects performed in an intimate setting. The spirit of the season comes alive with the signature sound of Mannheim Steamroller. Don't miss this ultimate holiday tradition from the #1 Christmas music artist in history!
X-ALT-DESC;FMTTYPE=text/html:Experience the Magic! Mannheim Steamroller Christmas by Chip Davis has been America&rsquo\;s favorite holiday celebration for over 25 years. Grammy Award winner Chip Davis has created a show that features the beloved Christmas music of Mannheim Steamroller along with dazzling multimedia effects performed in an intimate setting. The spirit of the season comes alive with the signature sound of Mannheim Steamroller. Don&rsquo\;t miss this ultimate holiday tradition from the #1 Christmas music artist in history!
LOCATION:Ferguson Center for the Arts
UID:e.832.1519
SEQUENCE:3
DTSTAMP:20260422T210047Z
URL:https://business.virginiapeninsulachamber.com/events/details/mannheim-steamroller-christmas-12-02-2012-1519
END:VEVENT

END:VCALENDAR
