BEGIN:VCALENDAR
VERSION:2.0
PRODID:-//ChamberMaster//Event Calendar 2.0//EN
METHOD:PUBLISH
X-PUBLISHED-TTL:P3D
REFRESH-INTERVAL:P3D
CALSCALE:GREGORIAN
BEGIN:VEVENT
DTSTART:20130828T160000Z
DTEND:20130828T170000Z
X-MICROSOFT-CDO-ALLDAYEVENT:FALSE
SUMMARY:Lunch and Learn at Strayer University
DESCRIPTION:Lunch & Learn\n				\n					A free networking event for the local business community hosted by Strayer University.\n			\n		\n		\n			\n				\n					Date: August 28\, 2013\n				\n					Time: 12pm-1pm\n				\n					Location: Newport News Campus \n				\n					                 99 Old Oyster Point Rd\, Unit 1\n				\n					                 Newport News\, VA 23602\n				\n					Agenda:\n				\n					12pm to 12:15pm   Meet and greet/lunch begins\n				\n					12:15pm to 12:45pm   Lecture\n				\n					12:45-1pm  Wrap up\n				\n					 \n				\n					Title of Lecture:  More Profit Through Better Managers\n				\n					Info:  How teaching managers the human side of workers and creating relationships\n				\n					can bring more profit into the organization.\n				\n					Distinguished Facilitator:  Professor Todd Wright\, Strayer University\, Academic Advisor\, M.B.A.\, E-Business and Entrepreneurship\, Regent University\; B.S.\, Interdisciplinary Studies\, Norfolk State University                 \n				\n					RSVP: Seats are limited\, please RSVP by August 23rd.  Contact Marilyn Watford\, Learning Resources Center Manager at (757)881-5129\, or marilyn.watford@strayer.edu.\n			\n		\n		\n			\n				\n					                    \n			\n			\n				\n					 \n				\n					Lunch will be provided by Strayer University.
X-ALT-DESC;FMTTYPE=text/html:<table border="1" cellpadding="0" cellspacing="0" class="MsoTableGrid" style="margin: auto auto auto 5.3pt\; border: currentColor\; border-collapse: collapse\; mso-border-alt: solid windowtext .5pt\; mso-yfti-tbllook: 1184\; mso-padding-alt: 0in 5.4pt 0in 5.4pt\;">\n	<tbody>\n		<tr style="height: 85.75pt\; mso-yfti-irow: 0\; mso-yfti-firstrow: yes\;">\n			<td colspan="2" style="padding: 0in 5.4pt\; border: 0px rgb(0\, 0\, 0)\; width: 393.55pt\; height: 85.75pt\; background-color: transparent\;" valign="top" width="525">\n				<p class="MsoNormal" style="margin: 0in 0in 0pt\;">\n					<b style="mso-bidi-font-weight: normal\;"><span style="color: rgb(158\, 30\, 24)\; font-size: 24pt\; mso-ascii-font-family: Arial\; mso-hansi-font-family: Arial\;">Lunch &amp\; Learn<o:p></o:p></span></b></p>\n				<p class="MsoNormal" style="margin: 0in 0in 0pt\;">\n					<b style="mso-bidi-font-weight: normal\;"><span style="color: rgb(158\, 30\, 24)\; font-size: 14pt\; mso-ascii-font-family: Arial\; mso-hansi-font-family: Arial\;">A free networking event for the local business community hosted by Strayer University.<o:p></o:p></span></b></p>\n			</td>\n		</tr>\n		<tr style="height: 237.35pt\; mso-yfti-irow: 1\;">\n			<td colspan="2" style="padding: 0in 5.4pt\; border: 0px rgb(0\, 0\, 0)\; width: 393.55pt\; height: 237.35pt\; background-color: transparent\;" valign="top" width="525">\n				<p class="MsoNormal" style="margin: 0in 0in 0pt\; line-height: 150%\; text-autospace: \; mso-pagination: none\; mso-layout-grid-align: none\;">\n					<b><span style="mso-ascii-font-family: Arial\; mso-hansi-font-family: Arial\; mso-bidi-font-family: TradeGothic-Bold\;">Date:</span></b><span style="mso-bidi-font-weight: bold\; mso-ascii-font-family: Arial\; mso-hansi-font-family: Arial\; mso-bidi-font-family: TradeGothic-Bold\;"> August 28\, 2013<o:p></o:p></span></p>\n				<p class="MsoNormal" style="margin: 0in 0in 0pt 0.8in\; line-height: 150%\; text-indent: -0.8in\;">\n					<font size="3"><font color="#000000"><b><span style="mso-ascii-font-family: Arial\; mso-hansi-font-family: Arial\; mso-bidi-font-family: TradeGothic-Bold\;">Time:</span></b><span style="mso-bidi-font-weight: bold\; mso-ascii-font-family: Arial\; mso-hansi-font-family: Arial\; mso-bidi-font-family: TradeGothic-Bold\;"> 12pm-1pm<o:p></o:p></span></font></font></p>\n				<p class="MsoNormal" style="margin: 0in 0in 0pt 0.8in\; line-height: 150%\; text-indent: -0.8in\;">\n					<font size="3"><font color="#000000"><b><span style="mso-ascii-font-family: Arial\; mso-hansi-font-family: Arial\; mso-bidi-font-family: TradeGothic-Bold\;">Location:</span></b><span style="mso-bidi-font-weight: bold\; mso-ascii-font-family: Arial\; mso-hansi-font-family: Arial\; mso-bidi-font-family: TradeGothic-Bold\;"> Newport News Campus <o:p></o:p></span></font></font></p>\n				<p class="MsoNormal" style="margin: 0in 0in 0pt 0.8in\; line-height: 150%\; text-indent: -0.8in\;">\n					<span style="mso-bidi-font-weight: bold\; mso-ascii-font-family: Arial\; mso-hansi-font-family: Arial\; mso-bidi-font-family: TradeGothic-Bold\;"><font size="3"><font color="#000000"><span style="mso-spacerun: yes\;">&nbsp\;&nbsp\;&nbsp\;&nbsp\;&nbsp\;&nbsp\;&nbsp\;&nbsp\;&nbsp\;&nbsp\;&nbsp\;&nbsp\;&nbsp\;&nbsp\;&nbsp\;&nbsp\; </span>99 Old Oyster Point Rd\, Unit 1<o:p></o:p></font></font></span></p>\n				<p class="MsoNormal" style="margin: 0in 0in 0pt 0.8in\; line-height: 150%\; text-indent: -0.8in\;">\n					<span style="mso-bidi-font-weight: bold\; mso-ascii-font-family: Arial\; mso-hansi-font-family: Arial\; mso-bidi-font-family: TradeGothic-Bold\;"><font size="3"><font color="#000000"><span style="mso-spacerun: yes\;">&nbsp\;&nbsp\;&nbsp\;&nbsp\;&nbsp\;&nbsp\;&nbsp\;&nbsp\;&nbsp\;&nbsp\;&nbsp\;&nbsp\;&nbsp\;&nbsp\;&nbsp\;&nbsp\; </span>Newport News\, VA 23602<o:p></o:p></font></font></span></p>\n				<p class="MsoNormal" style="margin: 0in 0in 0pt 0.8in\; line-height: 150%\; text-indent: -0.8in\;">\n					<b><span style="mso-ascii-font-family: Arial\; mso-hansi-font-family: Arial\; mso-bidi-font-family: TradeGothic-Bold\;"><font size="3"><font color="#000000">Agenda:<o:p></o:p></font></font></span></b></p>\n				<p class="MsoNormal" style="margin: 0in 0in 0pt 0.8in\; line-height: 150%\; text-indent: -0.8in\;">\n					<span style="mso-bidi-font-weight: bold\; mso-ascii-font-family: Arial\; mso-hansi-font-family: Arial\; mso-bidi-font-family: TradeGothic-Bold\;"><font size="3"><font color="#000000">12pm to 12:15pm &ndash\; Meet and greet/lunch begins<o:p></o:p></font></font></span></p>\n				<p class="MsoNormal" style="margin: 0in 0in 0pt 0.8in\; line-height: 150%\; text-indent: -0.8in\;">\n					<span style="mso-bidi-font-weight: bold\; mso-ascii-font-family: Arial\; mso-hansi-font-family: Arial\; mso-bidi-font-family: TradeGothic-Bold\;"><font size="3"><font color="#000000">12:15pm to 12:45pm &ndash\; Lecture<o:p></o:p></font></font></span></p>\n				<p class="MsoNormal" style="margin: 0in 0in 0pt 0.8in\; line-height: 150%\; text-indent: -0.8in\;">\n					<span style="mso-bidi-font-weight: bold\; mso-ascii-font-family: Arial\; mso-hansi-font-family: Arial\; mso-bidi-font-family: TradeGothic-Bold\;"><font size="3"><font color="#000000">12:45-1pm<span style="mso-spacerun: yes\;">&nbsp\; </span>Wrap up<o:p></o:p></font></font></span></p>\n				<p class="MsoNormal" style="margin: 0in 0in 0pt 0.8in\; line-height: 150%\; text-indent: -0.8in\;">\n					<span style="line-height: 150%\; font-size: 10pt\; mso-bidi-font-weight: bold\; mso-ascii-font-family: Arial\; mso-hansi-font-family: Arial\; mso-bidi-font-family: TradeGothic-Bold\;"><o:p><font color="#000000">&nbsp\;</font></o:p></span></p>\n				<p class="MsoNormal" style="margin: 0in 0in 0pt\; line-height: 150%\;">\n					<font color="#000000"><b><span style="line-height: 150%\; font-size: 10pt\; mso-ascii-font-family: Arial\; mso-hansi-font-family: Arial\; mso-bidi-font-family: TradeGothic-Bold\;">Title of Lecture</span></b><span style="line-height: 150%\; font-size: 10pt\; mso-bidi-font-weight: bold\; mso-ascii-font-family: Arial\; mso-hansi-font-family: Arial\; mso-bidi-font-family: TradeGothic-Bold\;">:<span style="mso-spacerun: yes\;">&nbsp\; </span>More Profit Through Better Managers<o:p></o:p></span></font></p>\n				<p class="MsoNormal" style="margin: 0in 0in 0pt 0.8in\; line-height: 150%\; text-indent: -0.8in\;">\n					<span style="line-height: 150%\; font-size: 10pt\; mso-bidi-font-weight: bold\; mso-ascii-font-family: Arial\; mso-hansi-font-family: Arial\; mso-bidi-font-family: TradeGothic-Bold\;"><font color="#000000">Info:<span style="mso-spacerun: yes\;">&nbsp\; </span>How teaching managers the human side of workers and creating relationships<o:p></o:p></font></span></p>\n				<p class="MsoNormal" style="margin: 0in 0in 0pt 0.8in\; line-height: 150%\; text-indent: -0.8in\;">\n					<span style="line-height: 150%\; font-size: 10pt\; mso-bidi-font-weight: bold\; mso-ascii-font-family: Arial\; mso-hansi-font-family: Arial\; mso-bidi-font-family: TradeGothic-Bold\;"><font color="#000000">can bring more profit into the organization.<o:p></o:p></font></span></p>\n				<p class="MsoNormal" style="margin: 0in 0in 0pt\; line-height: 150%\;">\n					<font color="#000000"><b><span style="line-height: 150%\; font-size: 10pt\; mso-ascii-font-family: Arial\; mso-hansi-font-family: Arial\; mso-bidi-font-family: TradeGothic-Bold\;">Distinguished Facilitator:</span></b><span style="line-height: 150%\; font-size: 10pt\; mso-bidi-font-weight: bold\; mso-ascii-font-family: Arial\; mso-hansi-font-family: Arial\; mso-bidi-font-family: TradeGothic-Bold\;"><span style="mso-spacerun: yes\;">&nbsp\; </span>Professor Todd Wright\, Strayer University\, Academic Advisor\, M.B.A.\, E-Business and Entrepreneurship\, Regent University\; B.S.\, Interdisciplinary Studies\, Norfolk State University<span style="mso-spacerun: yes\;">&nbsp\;&nbsp\;&nbsp\;&nbsp\;&nbsp\;&nbsp\;&nbsp\; </span><span style="mso-spacerun: yes\;">&nbsp\;&nbsp\;&nbsp\;&nbsp\;&nbsp\;&nbsp\;&nbsp\;&nbsp\;&nbsp\;</span><o:p></o:p></span></font></p>\n				<p class="MsoNormal" style="margin: 0in 0in 0pt\; line-height: 150%\;">\n					<font color="#000000"><b><span style="line-height: 150%\; font-size: 10pt\; mso-ascii-font-family: Arial\; mso-hansi-font-family: Arial\; mso-bidi-font-family: TradeGothic-Bold\;">RSVP:</span></b><span style="line-height: 150%\; font-size: 10pt\; mso-bidi-font-weight: bold\; mso-ascii-font-family: Arial\; mso-hansi-font-family: Arial\; mso-bidi-font-family: TradeGothic-Bold\;"> Seats are limited\, please RSVP by August 23rd.<span style="mso-spacerun: yes\;">&nbsp\; </span>Contact Marilyn Watford\, Learning Resources Center Manager at (757)881-5129\, or marilyn.watford@strayer.edu.<o:p></o:p></span></font></p>\n			</td>\n		</tr>\n		<tr style="height: 214.4pt\; mso-yfti-irow: 2\; mso-yfti-lastrow: yes\;">\n			<td style="padding: 0in 5.4pt\; border: 0px rgb(0\, 0\, 0)\; width: 193.45pt\; height: 214.4pt\; background-color: transparent\;" valign="top" width="258">\n				<p class="MsoListParagraph" style="margin: 0in 0in 0pt\; mso-add-space: auto\;">\n					<span style="color: black\; mso-ascii-font-family: Arial\; mso-hansi-font-family: Arial\; mso-fareast-language: EN-US\; mso-themecolor: text1\; mso-no-proof: yes\;"><v:shapetype coordsize="21600\,21600" filled="f" id="_x0000_t75" o:preferrelative="t" o:spt="75" path="m@4@5l@4@11@9@11@9@5xe" stroked="f"> <v:stroke joinstyle="miter"> <v:formulas> <v:f eqn="if lineDrawn pixelLineWidth 0"> <v:f eqn="sum @0 1 0"> <v:f eqn="sum 0 0 @1"> <v:f eqn="prod @2 1 2"> <v:f eqn="prod @3 21600 pixelWidth"> <v:f eqn="prod @3 21600 pixelHeight"> <v:f eqn="sum @0 0 1"> <v:f eqn="prod @6 1 2"> <v:f eqn="prod @7 21600 pixelWidth"> <v:f eqn="sum @8 21600 0"> <v:f eqn="prod @7 21600 pixelHeight"> <v:f eqn="sum @10 21600 0"> </v:f></v:f></v:f></v:f></v:f></v:f></v:f></v:f></v:f></v:f></v:f></v:f></v:formulas><font size="3"> <v:path gradientshapeok="t" o:connecttype="rect" o:extrusionok="f"> <o:lock aspectratio="t" v:ext="edit"> </o:lock></v:path></font></v:stroke></v:shapetype><v:shape id="Picture_x0020_4" o:spid="_x0000_i1025" style="width: 178.5pt\; height: 206.25pt\; visibility: visible\; mso-wrap-style: square\;" type="#_x0000_t75"><font size="3"> <v:imagedata cropbottom="7932f" cropleft="8803f" cropright="4309f" croptop="1800f" o:title="" src="file:///C:\\Users\\RYAN~1.ALL\\AppData\\Local\\Temp\\msohtmlclip1\\01\\clip_image001.jpg"> </v:imagedata></font></v:shape></span><span style="color: black\; mso-ascii-font-family: Arial\; mso-hansi-font-family: Arial\; mso-themecolor: text1\;"><o:p></o:p></span></p>\n			</td>\n			<td style="border-width: 0px 0px 1pt\; border-style: none none solid\; border-color: rgb(0\, 0\, 0) rgb(0\, 0\, 0) windowtext\; padding: 0in 5.4pt\; width: 200.1pt\; height: 214.4pt\; background-color: transparent\; mso-border-bottom-alt: solid windowtext .5pt\;" valign="top" width="267">\n				<p class="MsoNormal" style="margin: 0in 0in 0pt\;">\n					<b style="mso-bidi-font-weight: normal\;"><span style="color: rgb(70\, 133\, 179)\; font-size: 16pt\; mso-ascii-font-family: Arial\; mso-hansi-font-family: Arial\;"><o:p>&nbsp\;</o:p></span></b></p>\n				<p class="MsoListParagraph" style="margin: 0in 0in 0pt\; mso-add-space: auto\;">\n					<b style="mso-bidi-font-weight: normal\;"><span style="color: rgb(70\, 133\, 179)\; font-size: 16pt\; mso-ascii-font-family: Arial\; mso-hansi-font-family: Arial\;">Lunch will be provided by Strayer University.</span></b><span style="color: black\; font-size: 16pt\; mso-ascii-font-family: Arial\; mso-hansi-font-family: Arial\; mso-themecolor: text1\;"><o:p></o:p></span></p>\n			</td>\n		</tr>\n	</tbody>\n</table>\n<br />\n
LOCATION:Strayer University - 99 Old Oyster Point Road\, Unit 1\, Newport News\, VA 23602
UID:e.832.1827
SEQUENCE:3
DTSTAMP:20260422T053304Z
URL:https://business.virginiapeninsulachamber.com/events/details/lunch-and-learn-at-strayer-university-08-28-2013-1827
END:VEVENT

END:VCALENDAR
