BEGIN:VCALENDAR
VERSION:2.0
PRODID:-//ChamberMaster//Event Calendar 2.0//EN
METHOD:PUBLISH
X-PUBLISHED-TTL:P3D
REFRESH-INTERVAL:P3D
CALSCALE:GREGORIAN
BEGIN:VEVENT
DTSTART:20110318T220000Z
DTEND:20110319T010000Z
X-MICROSOFT-CDO-ALLDAYEVENT:FALSE
SUMMARY:Legacy of Leadership Banquet
DESCRIPTION:Legacy of Leadership Banquet honoring Governor Bob McDonnell and the Class of 2010 Eagle Scouts.
X-ALT-DESC;FMTTYPE=text/html:Legacy of Leadership Banquet honoring Governor Bob McDonnell and the Class of 2010 Eagle Scouts.
LOCATION:Newport News Marriott at City Center
UID:e.832.166
SEQUENCE:3
DTSTAMP:20260424T043322Z
URL:https://business.virginiapeninsulachamber.com/events/details/legacy-of-leadership-banquet-03-18-2011-166
END:VEVENT

END:VCALENDAR
